BEGIN:VCALENDAR
VERSION:2.0
PRODID:-//ChamberMaster//Event Calendar 2.0//EN
METHOD:PUBLISH
X-PUBLISHED-TTL:P3D
REFRESH-INTERVAL:P3D
CALSCALE:GREGORIAN
BEGIN:VEVENT
DTSTART:20161208T220000Z
DTEND:20161209T000000Z
X-MICROSOFT-CDO-ALLDAYEVENT:FALSE
SUMMARY:New Hampshire SPCA's Santa Paws Holiday Open House
DESCRIPTION:Join the New Hampshire SPCA on Thursday\, December 8\, 2016 from 5pm-7pm for the 2016 Santa Paws Holiday Open House! It will be a heartwarming night full of cocoa\, cookies\, and kitties! Visit the shelter for holiday fun and see our mission in motion. Enjoy the blessing of the animals\, tree lighting\, and Santa!
X-ALT-DESC;FMTTYPE=text/html:Join the New Hampshire SPCA on Thursday\, December 8\, 2016 from 5pm-7pm for the 2016 Santa Paws Holiday Open House! It will be a heartwarming night full of cocoa\, cookies\, and kitties! Visit the shelter for holiday fun and see our mission in motion. Enjoy the blessing of the animals\, tree lighting\, and Santa!
LOCATION:New Hampshire SPCA 104 Portsmouth Ave. Stratham\, NH 03885
UID:e.1659.28149
SEQUENCE:3
DTSTAMP:20260421T210909Z
URL:https://business.portsmouthchamber.org/events/details/new-hampshire-spca-s-santa-paws-holiday-open-house-28149
END:VEVENT

END:VCALENDAR
