BEGIN:VCALENDAR
VERSION:2.0
PRODID:-//ChamberMaster//Event Calendar 2.0//EN
METHOD:PUBLISH
X-PUBLISHED-TTL:P3D
REFRESH-INTERVAL:P3D
CALSCALE:GREGORIAN
BEGIN:VEVENT
DTSTART:20140212T143000Z
DTEND:20140212T153000Z
X-MICROSOFT-CDO-ALLDAYEVENT:FALSE
SUMMARY:New Member Orientation
DESCRIPTION:An opportunity for new members to meet fellow new members of the Chamber and Chamber staff. Held on the second Wednesday of each month.
X-ALT-DESC;FMTTYPE=text/html:An opportunity for new members to meet fellow new members of the Chamber and Chamber staff. Held on the second Wednesday of each month.&nbsp\;
LOCATION:Greater Portsmouth Chamber of Commerce 500 Market Street Portsmouth\, NH 03801
UID:e.1659.1024
SEQUENCE:3
DTSTAMP:20260420T014653Z
URL:https://business.portsmouthchamber.org/events/details/new-member-orientation-02-12-2014-1024
END:VEVENT

END:VCALENDAR
