BEGIN:VCALENDAR
VERSION:2.0
PRODID:-//ChamberMaster//Event Calendar 2.0//EN
METHOD:PUBLISH
X-PUBLISHED-TTL:P3D
REFRESH-INTERVAL:P3D
CALSCALE:GREGORIAN
BEGIN:VEVENT
DTSTART:20140101T160000Z
DTEND:20140101T173000Z
X-MICROSOFT-CDO-ALLDAYEVENT:FALSE
SUMMARY:New Year's Resolution 5K
DESCRIPTION:New Year's Day 5K run/walk. Prizes\, refreshments. To benefit Great Bay Services. Great Bay provides programs and services for individuals with acquired and developmental disabilities.
X-ALT-DESC;FMTTYPE=text/html:New Year&#39\;s Day 5K run/walk. Prizes\, refreshments. To benefit Great Bay Services. Great Bay provides programs and services for individuals with acquired and developmental disabilities.
LOCATION:Little Harbour School
UID:e.1659.810
SEQUENCE:3
DTSTAMP:20260420T031606Z
URL:https://business.portsmouthchamber.org/events/details/new-year-s-resolution-5k-01-01-2014-810
END:VEVENT

END:VCALENDAR
