BEGIN:VCALENDAR
VERSION:2.0
PRODID:-//ChamberMaster//Event Calendar 2.0//EN
METHOD:PUBLISH
X-PUBLISHED-TTL:P3D
REFRESH-INTERVAL:P3D
CALSCALE:GREGORIAN
BEGIN:VEVENT
DTSTART:20160319T010000Z
DTEND:20160319T030000Z
X-MICROSOFT-CDO-ALLDAYEVENT:FALSE
SUMMARY:New York Night Train SOUL CLAP & Dance Off w/ DJ Mr. Jonathan Toubin
DESCRIPTION:On a random Saturday in a random club in a random city\, you will find Jonathan Toubin behind two turntables\, effortlessly transitioning between roughly a hundred records that no one in the room has previously heard\, but everyone loves. The room is a cavern of sweaty\, undulating limbs\, dancing vigorously to hours of Toubin's raw and exquisite 1960s soul and R&B 45s. We could be in Brooklyn. Or Los Angeles. Or London. Or Gambier\, Ohio. Or Sao Paulo\, Brazil.\n\n\n\nDrawn to analog sound\, raw blues-based post-war rock and soul\, uncommon flaming tracks\, and the physical craftsmanship of spinning records\, Toubin and his parties stand in direct opposition to the slick pop mp3s that dominate contemporary nightlife. Nonetheless\, this underdog DJ and his uniquely fun alternative to the usual regularly appear at major festivals\, major rock concerts\, upscale hotels\, at ivy league colleges\, and other surprising places worldwide.
X-ALT-DESC;FMTTYPE=text/html:On a random Saturday in a random club in a random city\, you will find Jonathan Toubin behind two turntables\, effortlessly transitioning between roughly a hundred records that no one in the room has previously heard\, but everyone loves. The room is a cavern of sweaty\, undulating limbs\, dancing vigorously to hours of Toubin&rsquo\;s raw and exquisite 1960s soul and R&amp\;B 45s. We could be in Brooklyn. Or Los Angeles. Or London. Or Gambier\, Ohio. Or Sao Paulo\, Brazil.<br />\n<br />\nDrawn to analog sound\, raw blues-based post-war rock and soul\, uncommon flaming tracks\, and the physical craftsmanship of spinning records\, Toubin and his parties stand in direct opposition to the slick pop mp3s that dominate contemporary nightlife. Nonetheless\, this underdog DJ and his uniquely fun alternative to the usual regularly appear at major festivals\, major rock concerts\, upscale hotels\, at ivy league colleges\, and other surprising places worldwide.
LOCATION:3S Artspace 319 Vaughan Street\, Portsmouth
UID:e.1659.17897
SEQUENCE:3
DTSTAMP:20260420T145909Z
URL:https://business.portsmouthchamber.org/events/details/new-york-night-train-soul-clap-dance-off-w-dj-mr-jonathan-toubin-03-18-2016-17897
END:VEVENT

END:VCALENDAR
