BEGIN:VCALENDAR
VERSION:2.0
PRODID:-//ChamberMaster//Event Calendar 2.0//EN
METHOD:PUBLISH
X-PUBLISHED-TTL:P3D
REFRESH-INTERVAL:P3D
CALSCALE:GREGORIAN
BEGIN:VEVENT
DTSTART:20130920T230000Z
DTEND:20130921T020000Z
X-MICROSOFT-CDO-ALLDAYEVENT:FALSE
SUMMARY:NH Seacoast TV first Annual Anniversary Bash
DESCRIPTION:Join David Flood and the rest of the NH Seacoast TV crew as we take over the Thomas Laighten for a 3 hour cruise.  Groove and Dance the Night away with Scott Ruffner and Seth Whete and FashioNation Models\, modeling clothing from local boutiques.  Tickets are $20.00 and can be ordered from the Isle Of Shoals Steamship Co. website.
X-ALT-DESC;FMTTYPE=text/html:Join David Flood and the rest of the NH Seacoast TV crew as we take over the Thomas Laighten for a 3 hour cruise.&nbsp\; Groove and Dance the Night away with Scott Ruffner and Seth Whete and FashioNation Models\, modeling clothing from local boutiques.&nbsp\; Tickets are $20.00 and can be ordered from the Isle Of Shoals Steamship Co. website.<br />\n
LOCATION:Portsmouth
UID:e.1659.522
SEQUENCE:3
DTSTAMP:20260420T090319Z
URL:https://business.portsmouthchamber.org/events/details/nh-seacoast-tv-first-annual-anniversary-bash-09-20-2013-522
END:VEVENT

END:VCALENDAR
