BEGIN:VCALENDAR
VERSION:2.0
PRODID:-//ChamberMaster//Event Calendar 2.0//EN
METHOD:PUBLISH
X-PUBLISHED-TTL:P3D
REFRESH-INTERVAL:P3D
CALSCALE:GREGORIAN
BEGIN:VEVENT
DTSTART:20161119T223000Z
DTEND:20161120T010000Z
X-MICROSOFT-CDO-ALLDAYEVENT:FALSE
SUMMARY:NH SPCA 22nd Annual Auction for the Animals
DESCRIPTION:The New Hampshire SPCA will host its 22nd Annual Auction for the Animals on Saturday\, November 19th with the Silent Auction and Reception beginning at 5:30 p.m.  This year's Auction will once again be held at the stunning Wentworth by the Sea Hotel and Spa and will feature a Live Auction\, Silent Auction\, and Best of Live Raffle to raise critical funds for the care of thousands of animals that come to the NHSPCA in need each year.  \n\n\n\nThe Auction will bring together some of the Seacoast regions most influential and philanthropic animal lovers for an elegant and fun evening.  The Auction for the Animals is our most vital fundraising event of the year and is a great place to begin holiday shopping!\n\n\n\n\n\n\n\nWe invite the public to purchase tickets and come to the event knowing that the proceeds of each and every purchase go to our mission\, saving more animals lives and providing them a second chance at the life and home they deserve.  The Auction is also the perfect opportunity to put on your favorite formal wear and treat yourself to night of delicious drinks and fantastic food while you mingle with amazing fellow animal lovers.\n\n\n\n\n\n\n\nWill you win an amazing Live Auction Item\, for just the price of a raffle ticket?  Our Signature "Best of Live" Raffle gives the participant the chance to win the Live Auction Item OF THEIR CHOICE!  Every item in our Live auction\, from trips to Disney\, St. Maarten and Chicago to a beautiful handmade quilt to an awesome backyard swing set\, and so much more\, are all up for the winning!  So much fun\, for such an important cause!\n\n\n\n"We are so excited about this year's Auction for the Animals\," said Sheila Ryan\, Director of Development and Marketing for the New Hampshire SPCA.  "We have incredible items coming in daily and wonderful people planning to attend.  It will surely be a magical evening for the animals.  We are grateful to all of our sponsors and auction donors."\n\n\n\nTickets are $125 for this event and can be purchased online at www.nhspca.org or by calling (603) 772-2921 ext. 105.    \n\n\n\nAbout the New Hampshire SPCA\n\nThe mission of the New Hampshire SPCA is to save the lives of companion animals through rescue\, rehabilitation\, and adoption\; to promote learning\, eliminate animal cruelty and be a leader in advancing the highest standards of animal welfare. Adoption Center hours are from 11am   4pm on Monday\, Friday\, Saturday and Sunday\, 11am   7pm on Tuesday and Thursday\, and closed on Wednesday.  For more information about the New Hampshire SPCA\, please visit www.nhspca.org\n\n\n\nFollow the New Hampshire SPCA on Facebook at www.facebook.com/NewHampshireSPCA
X-ALT-DESC;FMTTYPE=text/html:The New Hampshire SPCA will host its 22nd Annual Auction for the Animals on Saturday\, November 19th with the Silent Auction and Reception beginning at 5:30 p.m. &nbsp\;This year&rsquo\;s Auction will once again be held at the stunning Wentworth by the Sea Hotel and Spa and will feature a Live Auction\, Silent Auction\, and Best of Live Raffle to raise critical funds for the care of thousands of animals that come to the NHSPCA in need each year. &nbsp\;<br />\n<br />\nThe Auction will bring together some of the Seacoast regions most influential and philanthropic animal lovers for an elegant and fun evening. &nbsp\;The Auction for the Animals is our most vital fundraising event of the year and is a great place to begin holiday shopping!<br />\n<br />\n<br />\n<br />\nWe invite the public to purchase tickets and come to the event knowing that the proceeds of each and every purchase go to our mission\, saving more animals lives and providing them a second chance at the life and home they deserve. &nbsp\;The Auction is also the perfect opportunity to put on your favorite formal wear and treat yourself to night of delicious drinks and fantastic food while you mingle with amazing fellow animal lovers.<br />\n<br />\n<br />\n<br />\nWill you win an amazing Live Auction Item\, for just the price of a raffle ticket? &nbsp\;Our Signature &ldquo\;Best of Live&rdquo\; Raffle gives the participant the chance to win the Live Auction Item OF THEIR CHOICE! &nbsp\;Every item in our Live auction\, from trips to Disney\, St. Maarten and Chicago to a beautiful handmade quilt to an awesome backyard swing set\, and so much more\, are all up for the winning! &nbsp\;So much fun\, for such an important cause!<br />\n<br />\n&ldquo\;We are so excited about this year&rsquo\;s Auction for the Animals\,&rdquo\; said Sheila Ryan\, Director of Development and Marketing for the New Hampshire SPCA. &nbsp\;&ldquo\;We have incredible items coming in daily and wonderful people planning to attend. &nbsp\;It will surely be a magical evening for the animals. &nbsp\;We are grateful to all of our sponsors and auction donors.&rdquo\;<br />\n<br />\nTickets are $125 for this event and can be purchased online at www.nhspca.org or by calling (603) 772-2921 ext. 105. &nbsp\; &nbsp\;<br />\n<br />\nAbout the New Hampshire SPCA<br />\nThe mission of the New Hampshire SPCA is to save the lives of companion animals through rescue\, rehabilitation\, and adoption\; to promote learning\, eliminate animal cruelty and be a leader in advancing the highest standards of animal welfare. Adoption Center hours are from 11am &ndash\; 4pm on Monday\, Friday\, Saturday and Sunday\, 11am &ndash\; 7pm on Tuesday and Thursday\, and closed on Wednesday. &nbsp\;For more information about the New Hampshire SPCA\, please visit www.nhspca.org<br />\n<br />\nFollow the New Hampshire SPCA on Facebook at www.facebook.com/NewHampshireSPCA&nbsp\;<br />\n
LOCATION:Wentworth by the Sea Hotel and Spa
UID:e.1659.27695
SEQUENCE:3
DTSTAMP:20260421T225159Z
URL:https://business.portsmouthchamber.org/events/details/nh-spca-22nd-annual-auction-for-the-animals-27695
END:VEVENT

END:VCALENDAR
