BEGIN:VCALENDAR
VERSION:2.0
PRODID:-//ChamberMaster//Event Calendar 2.0//EN
METHOD:PUBLISH
X-PUBLISHED-TTL:P3D
REFRESH-INTERVAL:P3D
CALSCALE:GREGORIAN
BEGIN:VEVENT
DTSTART:20260311T223000Z
DTEND:20260312T010000Z
X-MICROSOFT-CDO-ALLDAYEVENT:FALSE
SUMMARY:NHAA's Dinner Club
DESCRIPTION:Each dinner gathers artists\, patrons\, and art lovers to share ideas\, stories\, and inspiration in an atmosphere as creative as it is welcoming. Just like NHAA's galleries\, these evenings invite conversation across disciplines and perspectives nurturing empathy\, curiosity\, and connection. It's a space to meet others who believe in the power of art to transform\, to inspire\, and to bring people together around the table.\n\nHow it works: Take the quiz to book your seat ($15.99)\, and leave the rest to us! You will be paired with 5-6 like-minded art enthusiasts for dinner at a restaurant in downtown Portsmouth. At 8pm\, all groups will gather at NHAA's Robert Lincoln Levy Gallery for an after party.\n\nDietary restrictions or budget preferences? No problem- we'll match you with a restaurant that suits your needs.
X-ALT-DESC;FMTTYPE=text/html:<p>Each dinner gathers artists\, patrons\, and art lovers to share ideas\, stories\, and inspiration in an atmosphere as creative as it is welcoming. Just like NHAA&rsquo\;s galleries\, these evenings invite conversation across disciplines and perspectives&mdash\;nurturing empathy\, curiosity\, and connection. It&rsquo\;s a space to meet others who believe in the power of art to transform\, to inspire\, and to bring people together around the table.</p>\n\n<p><strong>How it works:</strong> Take the quiz to book your seat ($15.99)\, and leave the rest to us! You will be paired with 5-6 like-minded art enthusiasts for dinner at a restaurant in downtown Portsmouth. At 8pm\, all groups will gather at NHAA&rsquo\;s Robert Lincoln Levy Gallery for an after party.</p>\n\n<p><em>Dietary restrictions or budget preferences?</em> No problem- we&rsquo\;ll match you with a restaurant that suits your needs.</p>\n
LOCATION:
UID:e.1659.89234
SEQUENCE:3
DTSTAMP:20260423T052730Z
URL:https://business.portsmouthchamber.org/events/details/nhaa-s-dinner-club-89234
END:VEVENT

END:VCALENDAR
