BEGIN:VCALENDAR
VERSION:2.0
PRODID:-//ChamberMaster//Event Calendar 2.0//EN
METHOD:PUBLISH
X-PUBLISHED-TTL:P3D
REFRESH-INTERVAL:P3D
CALSCALE:GREGORIAN
BEGIN:VEVENT
DTSTART:20260306T220000Z
DTEND:20260307T010000Z
X-MICROSOFT-CDO-ALLDAYEVENT:FALSE
SUMMARY:ART: NHAA’s Fledgling and Bugging Out show: Opening March 6th
DESCRIPTION:Opening March 6\, 2026\, the New Hampshire Art Association presents the third annual Fledgling: Artists Under 30 exhibition and Annual Fundraiser Auction\, a juried showcase celebrating emerging New England artists and supporting the next generation of creatives. Juried by Mike Gauthier\, the exhibition awards cash prizes and offers selected NHAA artists a complimentary one-year membership\, while one craft artist will also receive a professional critique from a Juried Member of the League of New Hampshire Craftsmen. Featured alongside the show is Bugging Out\, an Arts in Reach installation inspired by the world of insects. The Annual Auction\, held in conjunction with Fledgling\, opens during the March 6 reception (5 8 p.m.) and continues online through March 20 at 7:30 p.m.\, with proceeds directly supporting future Fledgling programming\; both exhibitions will be on view March 4 29 at the Robert Lincoln Levy Gallery\, 136 State Street\, Portsmouth\, NH 03801
X-ALT-DESC;FMTTYPE=text/html:<span style="background-color:transparent\; color:rgb(0\, 0\, 0)\; font-family:arial\,sans-serif\; font-size:11pt">Opening March 6\, 2026\, the New Hampshire Art Association presents the third annual </span><em>Fledgling: Artists Under 30 exhibition</em><span style="background-color:transparent\; color:rgb(0\, 0\, 0)\; font-family:arial\,sans-serif\; font-size:11pt"> and </span><em>Annual Fundraiser Auction</em><span style="background-color:transparent\; color:rgb(0\, 0\, 0)\; font-family:arial\,sans-serif\; font-size:11pt">\, a juried showcase celebrating emerging New England artists and supporting the next generation of creatives. Juried by Mike Gauthier\, the exhibition awards cash prizes and offers selected NHAA artists a complimentary one-year membership\, while one craft artist will also receive a professional critique from a Juried Member of the League of New Hampshire Craftsmen. Featured alongside the show is </span><em>Bugging Out</em><span style="background-color:transparent\; color:rgb(0\, 0\, 0)\; font-family:arial\,sans-serif\; font-size:11pt">\, an Arts in Reach installation inspired by the world of insects. The Annual Auction\, held in conjunction with Fledgling\, opens during the March 6 reception (5&ndash\;8 p.m.) and continues online through March 20 at 7:30 p.m.\, with proceeds directly supporting future Fledgling programming\; both exhibitions will be on view March 4&ndash\;29 at the Robert Lincoln Levy Gallery\, 136 State Street\, Portsmouth\, NH 03801</span>
LOCATION:
UID:e.1659.89233
SEQUENCE:3
DTSTAMP:20260423T053130Z
URL:https://business.portsmouthchamber.org/events/details/nhaa-s-fledgling-and-bugging-out-show-opening-march-6th-89233
END:VEVENT

END:VCALENDAR
