BEGIN:VCALENDAR
VERSION:2.0
PRODID:-//ChamberMaster//Event Calendar 2.0//EN
METHOD:PUBLISH
X-PUBLISHED-TTL:P3D
REFRESH-INTERVAL:P3D
CALSCALE:GREGORIAN
BEGIN:VEVENT
DTSTART:20131123T223000Z
DTEND:20131124T030000Z
X-MICROSOFT-CDO-ALLDAYEVENT:FALSE
SUMMARY:NHSPCA's Annual Auction for the Animals
DESCRIPTION:This event helps the NHSPCA continue their life saving mission to serve as a safe haven for nearly 3\,000 abused\, abandoned and neglected animals each and every year. The auction finances the services these animals receive. All of them need food\, shelter and a warm bed\, and some require extensive medical care and rehabilitation. The NHSPCA could not continue their work without the ongoing support of their community.
X-ALT-DESC;FMTTYPE=text/html:This event helps the NHSPCA continue their life saving mission to serve as a safe haven for nearly 3\,000 abused\, abandoned and neglected animals each and every year. The auction finances the services these animals receive. All of them need food\, shelter and a warm bed\, and some require extensive medical care and rehabilitation. The NHSPCA could not continue their work without the ongoing support of their community. 
LOCATION:Wentworth by the Sea Hotel & Spa\, Newcastle\, NH
UID:e.1659.586
SEQUENCE:3
DTSTAMP:20260420T055737Z
URL:https://business.portsmouthchamber.org/events/details/nhspca-s-annual-auction-for-the-animals-11-23-2013-586
END:VEVENT

END:VCALENDAR
