BEGIN:VCALENDAR
VERSION:2.0
PRODID:-//ChamberMaster//Event Calendar 2.0//EN
METHOD:PUBLISH
X-PUBLISHED-TTL:P3D
REFRESH-INTERVAL:P3D
CALSCALE:GREGORIAN
BEGIN:VEVENT
DTSTART:20160112T010000Z
DTEND:20160112T040000Z
X-MICROSOFT-CDO-ALLDAYEVENT:FALSE
SUMMARY:Nick Goumas at The Press Room
DESCRIPTION:
X-ALT-DESC;FMTTYPE=text/html:
LOCATION:The Press Room 77 Daniel Street\, Portsmouth
UID:e.1659.13380
SEQUENCE:3
DTSTAMP:20260420T115239Z
URL:https://business.portsmouthchamber.org/events/details/nick-goumas-at-the-press-room-01-11-2016-13380
END:VEVENT

END:VCALENDAR
