BEGIN:VCALENDAR
VERSION:2.0
PRODID:-//ChamberMaster//Event Calendar 2.0//EN
METHOD:PUBLISH
X-PUBLISHED-TTL:P3D
REFRESH-INTERVAL:P3D
CALSCALE:GREGORIAN
BEGIN:VEVENT
DTSTART:20160120T000000Z
DTEND:20160120T010000Z
X-MICROSOFT-CDO-ALLDAYEVENT:FALSE
SUMMARY:Nonfiction Book Discussion: : A Year in Provence
DESCRIPTION:Nonfiction Book Discussion meets once monthly\, on Tuesday at 7 PM in the Hilton Garden Room. All are welcome! Books are available for check out with your PPL card. January 19: A Year in Provence by Peter Mayle (1990). The author describes his first 12 months in Provence\, after he and his wife have abandoned England for an 18th-century farmhouse in the Luberon Mountains.
X-ALT-DESC;FMTTYPE=text/html:Nonfiction Book Discussion meets once monthly\, on Tuesday at 7 PM in the Hilton Garden Room. All are welcome! Books are available for check out with your PPL card. January 19: A Year in Provence by Peter Mayle (1990). The author describes his first 12 months in Provence\, after he and his wife have abandoned England for an 18th-century farmhouse in the Luberon Mountains.
LOCATION:Portsmouth Public Library 175 Parrott Ave.\, Portsmouth\, NH 03801
UID:e.1659.14862
SEQUENCE:3
DTSTAMP:20260420T115644Z
URL:https://business.portsmouthchamber.org/events/details/nonfiction-book-discussion-a-year-in-provence-01-19-2016-14862
END:VEVENT

END:VCALENDAR
