BEGIN:VCALENDAR
VERSION:2.0
PRODID:-//ChamberMaster//Event Calendar 2.0//EN
METHOD:PUBLISH
X-PUBLISHED-TTL:P3D
REFRESH-INTERVAL:P3D
CALSCALE:GREGORIAN
BEGIN:VEVENT
DTSTART:20170301T220000Z
DTEND:20170302T030000Z
X-MICROSOFT-CDO-ALLDAYEVENT:FALSE
SUMMARY:North Country Barreled Cider Release (Portsmouth Beer Week event)
DESCRIPTION:North Country Cider is bringing FIVE barrel-aged beauts for this event at Earth Eagle Brewings!
X-ALT-DESC;FMTTYPE=text/html:North Country Cider is bringing FIVE barrel-aged beauts for this event at Earth Eagle Brewings!
LOCATION:Earth Eagle Brewings 165 High St\, Portsmouth
UID:e.1659.29898
SEQUENCE:3
DTSTAMP:20260421T151432Z
URL:https://business.portsmouthchamber.org/events/details/north-country-barreled-cider-release-portsmouth-beer-week-event-29898
END:VEVENT

END:VCALENDAR
