BEGIN:VCALENDAR
VERSION:2.0
PRODID:-//ChamberMaster//Event Calendar 2.0//EN
METHOD:PUBLISH
X-PUBLISHED-TTL:P3D
REFRESH-INTERVAL:P3D
CALSCALE:GREGORIAN
BEGIN:VEVENT
DTSTART:20141025T190000Z
DTEND:20141025T210000Z
X-MICROSOFT-CDO-ALLDAYEVENT:FALSE
SUMMARY:Ocean-Themed Halloween Party at the Blue Ocean Discovery Center
DESCRIPTION:Put on your favorite costume (bonus points if you come as a sea creature!) and join us for activities\, crafts\, a costume parade and of course . time with our touch tank animals! Drop in or stay for the whole two hours. Here's our schedule of fun activities!\n\n\n\nHalloween Party Schedule:\n\n3:00 Whale Skeleton craft \n\n3:30 Cookie Decorating \n\n4:00 Fish Printing\n\n4:45 Costume parade\n\n\n\nAlso\, join us throughout the party for Guess the Marine Creature Mystery Boxes\, a scavenger hunt\, and arts and crafts activities!
X-ALT-DESC;FMTTYPE=text/html:<span style="color: rgb(20\, 24\, 35)\; font-family: Helvetica\, Arial\, 'lucida grande'\, tahoma\, verdana\, arial\, sans-serif\; font-size: 14px\; line-height: 17.9200000762939px\;">Put on your favorite costume (bonus points if you come as a sea creature!) and join us for activities\, crafts\, a costume parade and of course&hellip\;. time with our touch tank animals! Drop in or stay for the whole two hours. Here&#39\;s our schedule of fun activities!</span><br style="color: rgb(20\, 24\, 35)\; font-family: Helvetica\, Arial\, 'lucida grande'\, tahoma\, verdana\, arial\, sans-serif\; font-size: 14px\; line-height: 17.9200000762939px\;" />\n<br style="color: rgb(20\, 24\, 35)\; font-family: Helvetica\, Arial\, 'lucida grande'\, tahoma\, verdana\, arial\, sans-serif\; font-size: 14px\; line-height: 17.9200000762939px\;" />\n<span style="color: rgb(20\, 24\, 35)\; font-family: Helvetica\, Arial\, 'lucida grande'\, tahoma\, verdana\, arial\, sans-serif\; font-size: 14px\; line-height: 17.9200000762939px\;">Halloween Party Schedule:</span><br style="color: rgb(20\, 24\, 35)\; font-family: Helvetica\, Arial\, 'lucida grande'\, tahoma\, verdana\, arial\, sans-serif\; font-size: 14px\; line-height: 17.9200000762939px\;" />\n<span style="color: rgb(20\, 24\, 35)\; font-family: Helvetica\, Arial\, 'lucida grande'\, tahoma\, verdana\, arial\, sans-serif\; font-size: 14px\; line-height: 17.9200000762939px\;">3:00 Whale Skeleton craft&nbsp\;</span><br style="color: rgb(20\, 24\, 35)\; font-family: Helvetica\, Arial\, 'lucida grande'\, tahoma\, verdana\, arial\, sans-serif\; font-size: 14px\; line-height: 17.9200000762939px\;" />\n<span style="color: rgb(20\, 24\, 35)\; font-family: Helvetica\, Arial\, 'lucida grande'\, tahoma\, verdana\, arial\, sans-serif\; font-size: 14px\; line-height: 17.9200000762939px\;">3:30 Cookie Decorating&nbsp\;</span><br style="color: rgb(20\, 24\, 35)\; font-family: Helvetica\, Arial\, 'lucida grande'\, tahoma\, verdana\, arial\, sans-serif\; font-size: 14px\; line-height: 17.9200000762939px\;" />\n<span style="color: rgb(20\, 24\, 35)\; font-family: Helvetica\, Arial\, 'lucida grande'\, tahoma\, verdana\, arial\, sans-serif\; font-size: 14px\; line-height: 17.9200000762939px\;">4:00 Fish Printing</span><br style="color: rgb(20\, 24\, 35)\; font-family: Helvetica\, Arial\, 'lucida grande'\, tahoma\, verdana\, arial\, sans-serif\; font-size: 14px\; line-height: 17.9200000762939px\;" />\n<span style="color: rgb(20\, 24\, 35)\; font-family: Helvetica\, Arial\, 'lucida grande'\, tahoma\, verdana\, arial\, sans-serif\; font-size: 14px\; line-height: 17.9200000762939px\;">4:45 Costume parade</span><br style="color: rgb(20\, 24\, 35)\; font-family: Helvetica\, Arial\, 'lucida grande'\, tahoma\, verdana\, arial\, sans-serif\; font-size: 14px\; line-height: 17.9200000762939px\;" />\n<br style="color: rgb(20\, 24\, 35)\; font-family: Helvetica\, Arial\, 'lucida grande'\, tahoma\, verdana\, arial\, sans-serif\; font-size: 14px\; line-height: 17.9200000762939px\;" />\n<span style="color: rgb(20\, 24\, 35)\; font-family: Helvetica\, Arial\, 'lucida grande'\, tahoma\, verdana\, arial\, sans-serif\; font-size: 14px\; line-height: 17.9200000762939px\;">Also\, join us throughout the party for Guess the Marine Creature Mystery Boxes\, a scavenger hunt\, and arts and crafts activities!</span>
LOCATION:Blue Ocean Discovery Center\, 170 Ocean Blvd\, Hampton Beach\, NH
UID:e.1659.3466
SEQUENCE:3
DTSTAMP:20260419T144623Z
URL:https://business.portsmouthchamber.org/events/details/ocean-themed-halloween-party-at-the-blue-ocean-discovery-center-10-25-2014-3466
END:VEVENT

END:VCALENDAR
