BEGIN:VCALENDAR
VERSION:2.0
PRODID:-//ChamberMaster//Event Calendar 2.0//EN
METHOD:PUBLISH
X-PUBLISHED-TTL:P3D
REFRESH-INTERVAL:P3D
CALSCALE:GREGORIAN
BEGIN:VEVENT
DTSTART;VALUE=DATE:20170722
DTEND;VALUE=DATE:20170723
TRANSP:TRANSPARENT
X-MICROSOFT-CDO-ALLDAYEVENT:TRUE
SUMMARY:Ogunquit Playhouse presents: Bullets over Broadway
DESCRIPTION:Bullets Over Broadway is the hilarious musical comedy about the making of a Broadway show\, filled with tap dancing gangsters\, saucy showgirls\, big laughs\, and colorful characters including an aging diva\, a savant hit-man and Sally Struthers as the dog-toting Eden Brent. Loaded with songs that made the '20s roar\, this six-time Tony-nominated musical is one big\, splashy and wildly entertaining show that is sure to knock 'em dead.
X-ALT-DESC;FMTTYPE=text/html:Bullets Over Broadway is the hilarious musical comedy about the making of a Broadway show\, filled with tap dancing gangsters\, saucy showgirls\, big laughs\, and colorful characters including an aging diva\, a savant hit-man and Sally Struthers as the dog-toting Eden Brent. Loaded with songs that made the &#39\;20s roar\, this six-time Tony-nominated musical is one big\, splashy and wildly entertaining show that is sure to knock &#39\;em dead.&nbsp\;
LOCATION:Ogunquit Playhouse 10 Main Street Ogunquit\, ME
UID:e.1659.30732
SEQUENCE:3
DTSTAMP:20260421T102357Z
URL:https://business.portsmouthchamber.org/events/details/ogunquit-playhouse-presents-bullets-over-broadway-07-22-2017-30732
END:VEVENT

END:VCALENDAR
