BEGIN:VCALENDAR
VERSION:2.0
PRODID:-//ChamberMaster//Event Calendar 2.0//EN
METHOD:PUBLISH
X-PUBLISHED-TTL:P3D
REFRESH-INTERVAL:P3D
CALSCALE:GREGORIAN
BEGIN:VEVENT
DTSTART;VALUE=DATE:20170617
DTEND;VALUE=DATE:20170618
TRANSP:TRANSPARENT
X-MICROSOFT-CDO-ALLDAYEVENT:TRUE
SUMMARY:Ogunquit Playhouse presents: Mamma Mia!
DESCRIPTION:This sunny\, funny show unfolds on a Greek island paradise when on the eve of her wedding a young woman's quest to discover the identity of her father brings three men from her mother's past back to the island they last visited twenty years ago. Non-stop laughs and explosive dance numbers along with the magic of ABBA's timeless hits combine to make this enchanting show a trip down the aisle you'll never forget!
X-ALT-DESC;FMTTYPE=text/html:This sunny\, funny show unfolds on a Greek island paradise when on the eve of her wedding a young woman&rsquo\;s quest to discover the identity of her father brings three men from her mother&#39\;s past back to the island they last visited twenty years ago. Non-stop laughs and explosive dance numbers along with the magic of ABBA&#39\;s timeless hits combine to make this enchanting show a trip down the aisle you&#39\;ll never forget!&nbsp\;
LOCATION:Ogunquit Playhouse 10 Main Street Ogunquit\, ME
UID:e.1659.31711
SEQUENCE:3
DTSTAMP:20260419T115056Z
URL:https://business.portsmouthchamber.org/events/details/ogunquit-playhouse-presents-mamma-mia-06-17-2017-31711
END:VEVENT

END:VCALENDAR
