BEGIN:VCALENDAR
VERSION:2.0
PRODID:-//ChamberMaster//Event Calendar 2.0//EN
METHOD:PUBLISH
X-PUBLISHED-TTL:P3D
REFRESH-INTERVAL:P3D
CALSCALE:GREGORIAN
BEGIN:VEVENT
DTSTART:20131203T220000Z
DTEND:20131204T000000Z
X-MICROSOFT-CDO-ALLDAYEVENT:FALSE
SUMMARY:Open House at Northway Bank
DESCRIPTION:Join us at Northway Bank's new Portsmouth banking center as we enjoy refreshments and friendly conversation with local chamber members and the business community. Admission is free and a non-perishable food item or unwrapped toy to benefit Operation Blessing is appreciated!\nClick here to edit...
X-ALT-DESC;FMTTYPE=text/html:<div style="color: gray\;">\n<p><font color="#221e1f" size="3"><font color="#221e1f" size="3">Join us at Northway Bank&rsquo\;s new Portsmouth banking center as we enjoy refreshments and friendly conversation with local chamber members and the business community. Admission is free and a non-perishable food item or unwrapped toy to benefit Operation Blessing is appreciated!</font></font></p>\nClick here to edit...</div>\n
LOCATION:750 Lafayette Rd.\, Portsmouth
UID:e.1659.765
SEQUENCE:3
DTSTAMP:20260420T043225Z
URL:https://business.portsmouthchamber.org/events/details/open-house-at-northway-bank-12-03-2013-765
END:VEVENT

END:VCALENDAR
