BEGIN:VCALENDAR
VERSION:2.0
PRODID:-//ChamberMaster//Event Calendar 2.0//EN
METHOD:PUBLISH
X-PUBLISHED-TTL:P3D
REFRESH-INTERVAL:P3D
CALSCALE:GREGORIAN
BEGIN:VEVENT
DTSTART:20251204T210000Z
DTEND:20251205T000000Z
X-MICROSOFT-CDO-ALLDAYEVENT:FALSE
SUMMARY:Open House at Seacoast Rejuvenation Center
DESCRIPTION:We invite you to our upcoming Open House event at Seacoast Rejuvenation Center. This is an excellent opportunity to meet our skilled team and discover the advanced aesthetic treatments designed to enhance your appearance and well-being.\n\n \nDuring the Open House\, you will have the opportunity to:\n\n- Meet our experienced practitioners and skincare specialists.\n\n- Explore our range of services.\n\n- Enjoy exclusive discounts and promotions available only to attendees.\n\n- Enter for a chance to win exciting raffle prizes\, including complimentary treatments.\n\n\n\nLight refreshments and snacks will be served\, and our team will be on hand to answer any questions you may have about the latest trends in aesthetic medicine. We look forward to welcoming you and ensuring an enjoyable and informative experience for all. We hope to see you there!
X-ALT-DESC;FMTTYPE=text/html:<!--StartFragment--><span style="font-size:12px"><span style="font-family:arial\,helvetica\,sans-serif"><span style="color:black">We invite you to our upcoming Open House event at Seacoast Rejuvenation Center. This is an excellent opportunity to meet our skilled team and discover the advanced aesthetic treatments designed to enhance your appearance and well-being.</span><!--EndFragment--></span></span><br />\n&nbsp\;\n<div><span style="font-size:12px"><span style="font-family:arial\,helvetica\,sans-serif">During the Open House\, you will have the opportunity to:<br />\n- Meet our experienced practitioners and skincare specialists.<br />\n- Explore our range of services.<br />\n- Enjoy exclusive discounts and promotions available only to attendees.<br />\n- Enter for a chance to win exciting raffle prizes\, including complimentary treatments.<br />\n<br />\nLight refreshments and snacks will be served\, and our team will be on hand to answer any questions you may have about the latest trends in aesthetic medicine. We look forward to welcoming you and ensuring an enjoyable and informative experience for all. We hope to see you there!</span></span></div>\n\n<div>&nbsp\;</div>\n
LOCATION:Seacoast Rejuvenation Center 101 Shattuck Way\, Suite 1 Newington\, NH 03801
UID:e.1659.86938
SEQUENCE:3
DTSTAMP:20260423T185445Z
URL:https://business.portsmouthchamber.org/events/details/open-house-at-seacoast-rejuvenation-center-86938
END:VEVENT

END:VCALENDAR
