BEGIN:VCALENDAR
VERSION:2.0
PRODID:-//ChamberMaster//Event Calendar 2.0//EN
METHOD:PUBLISH
X-PUBLISHED-TTL:P3D
REFRESH-INTERVAL:P3D
CALSCALE:GREGORIAN
BEGIN:VEVENT
DTSTART:20161115T160000Z
DTEND:20161115T220000Z
X-MICROSOFT-CDO-ALLDAYEVENT:FALSE
SUMMARY:Optima Bank & Trust Open House and Ribbon Cutting
DESCRIPTION:
X-ALT-DESC;FMTTYPE=text/html:
LOCATION:143 Daniel Street Portsmouth NH 03801
UID:e.1659.28000
SEQUENCE:3
DTSTAMP:20260421T212841Z
URL:https://business.portsmouthchamber.org/events/details/optima-bank-trust-open-house-and-ribbon-cutting-28000
END:VEVENT

END:VCALENDAR
