BEGIN:VCALENDAR
VERSION:2.0
PRODID:-//ChamberMaster//Event Calendar 2.0//EN
METHOD:PUBLISH
X-PUBLISHED-TTL:P3D
REFRESH-INTERVAL:P3D
CALSCALE:GREGORIAN
BEGIN:VEVENT
DTSTART:20140724T230000Z
DTEND:20140725T013000Z
X-MICROSOFT-CDO-ALLDAYEVENT:FALSE
SUMMARY:Paint and Sip Class at the Roundabout Diner and Lounge
DESCRIPTION:Stop by the diner Thursday\, July 24th\, to Paint & Sip with Ashley Baron from Baron Art Studio! Come unwind and be creative\, while sipping your drink of choice\; painting a start to finish acrylic piece on a gallery wrapped stretch canvas! These easy step by step lessons will have you creating your very own acrylic painting to take home with you the same night! Enjoy a night out\, relax and be artistic! No experience necessary!
X-ALT-DESC;FMTTYPE=text/html:<strong>Stop by the diner Thursday\, July 24th\,&nbsp\;to Paint &amp\; Sip with Ashley Baron from Baron Art Studio! Come unwind and be creative\, while sipping your drink of choice\; painting a start to finish acrylic piece on a gallery wrapped stretch canvas! These easy step by step lessons will have you creating your very own acrylic painting to take home with you the same night! Enjoy a night out\, relax and be artistic! No experience necessary! </strong>
LOCATION:Roundabout Diner and Lounge 580 US Highway 1 Bypass Portsmouth\, NH 03801
UID:e.1659.2193
SEQUENCE:3
DTSTAMP:20260419T190151Z
URL:https://business.portsmouthchamber.org/events/details/paint-and-sip-class-at-the-roundabout-diner-and-lounge-07-24-2014-2193
END:VEVENT

END:VCALENDAR
