BEGIN:VCALENDAR
VERSION:2.0
PRODID:-//ChamberMaster//Event Calendar 2.0//EN
METHOD:PUBLISH
X-PUBLISHED-TTL:P3D
REFRESH-INTERVAL:P3D
CALSCALE:GREGORIAN
BEGIN:VEVENT
DTSTART:20140811T143000Z
DTEND:20140811T160000Z
X-MICROSOFT-CDO-ALLDAYEVENT:FALSE
SUMMARY:Parent-Child Light-Up Mask Workshop
DESCRIPTION:You and your child are invited to learn how to sew a simple circuit with conductive thread and LEDs! Make a mask that can be used for Halloween\, a masquerade or your next costume party. Angela Sheehan of SparkFun Electronics will lead this workshop and introduce you to the world of wearable electronics. This workshop is design for 10 adult-child pairs\, with children ages 6 and up. The workshop is included in paid admission but preregistration is required by calling 603-742-2002.
X-ALT-DESC;FMTTYPE=text/html:<font size="2">You and your child are invited to learn how to sew a simple circuit with conductive thread and LEDs! Make a mask that can be used for Halloween\, a masquerade or your next costume party. Angela Sheehan of </font><font color="black" face="Arial\,sans-serif" size="2"><span style="font-size: 10pt\;"><b>SparkFun Electronics</b></span></font><font color="black" face="Arial\,sans-serif" size="2"><span style="font-size: 10pt\;"> will lead this workshop and introduce you to the world of wearable electronics. </span></font><font color="black" face="Arial\,sans-serif" size="2"><span style="font-size: 10pt\;"><i>This workshop is design for 10 adult-child pairs\, with children ages 6 and up. The workshop is included in paid admission but preregistration is required by calling 603-742-2002.</i></span></font>
LOCATION:The Children's Musuem\, 6 Washington Street\, Dover
UID:e.1659.2808
SEQUENCE:3
DTSTAMP:20260419T173906Z
URL:https://business.portsmouthchamber.org/events/details/parent-child-light-up-mask-workshop-08-11-2014-2808
END:VEVENT

END:VCALENDAR
