BEGIN:VCALENDAR
VERSION:2.0
PRODID:-//ChamberMaster//Event Calendar 2.0//EN
METHOD:PUBLISH
X-PUBLISHED-TTL:P3D
REFRESH-INTERVAL:P3D
CALSCALE:GREGORIAN
BEGIN:VEVENT
DTSTART:20170701T000000Z
DTEND:20170701T020000Z
X-MICROSOFT-CDO-ALLDAYEVENT:FALSE
SUMMARY:Patrick Dorow Presents HAIRSPRAY
DESCRIPTION:The 1950s are out\, and change is in the air! Hairspray\, winner of eight Tony Awards\, including Best Musical\, is a family-friendly musical\, piled bouffant-high with laughter\, romance and deliriously tuneful songs. It's 1962 in Baltimore\, and the lovable plus-size teen\, Tracy Turnblad\, has only one desire   to dance on the popular "Corny Collins Show." When her dream comes true\, Tracy is transformed from social outcast to sudden star. She must use her newfound power to dethrone the reigning Teen Queen\, win the affections of heartthrob\, Link Larkin\, and integrate a TV network... all without denting her 'do!
X-ALT-DESC;FMTTYPE=text/html:The 1950s are out\, and change is in the air! Hairspray\, winner of eight Tony Awards\, including Best Musical\, is a family-friendly musical\, piled bouffant-high with laughter\, romance and deliriously tuneful songs. It&#39\;s 1962 in Baltimore\, and the lovable plus-size teen\, Tracy Turnblad\, has only one desire &ndash\; to dance on the popular &quot\;Corny Collins Show.&quot\; When her dream comes true\, Tracy is transformed from social outcast to sudden star. She must use her newfound power to dethrone the reigning Teen Queen\, win the affections of heartthrob\, Link Larkin\, and integrate a TV network... all without denting her &#39\;do!
LOCATION:120 Rogers Road\, Kittery\, ME\, 03904
UID:e.1659.31927
SEQUENCE:3
DTSTAMP:20260421T115202Z
URL:https://business.portsmouthchamber.org/events/details/patrick-dorow-presents-hairspray-31927
END:VEVENT

END:VCALENDAR
