BEGIN:VCALENDAR
VERSION:2.0
PRODID:-//ChamberMaster//Event Calendar 2.0//EN
METHOD:PUBLISH
X-PUBLISHED-TTL:P3D
REFRESH-INTERVAL:P3D
CALSCALE:GREGORIAN
BEGIN:VEVENT
DTSTART;VALUE=DATE:20140608
DTEND;VALUE=DATE:20140609
TRANSP:TRANSPARENT
X-MICROSOFT-CDO-ALLDAYEVENT:TRUE
SUMMARY:Paws Walk
DESCRIPTION:The New Hampshire SPCA is hosting their 22nd Annual Paws Walk. The Paws Walk will take place on Sunday\, June\, 8\, 2014 at the Stratham Hill Park. All of the money raised will go to all of the animals at the shelter. Whether you decide to walk as an individual\, team or a virtual walker\, all are encouraged to Come\, Walk and Save Lives!
X-ALT-DESC;FMTTYPE=text/html:The New Hampshire SPCA is hosting their 22nd Annual Paws Walk. The Paws Walk will take place on Sunday\, June\, 8\, 2014 at the Stratham Hill Park. All of the money raised will go to all of the animals at the shelter. Whether you decide to walk as an individual\, team or a virtual walker\, all are encouraged to Come\, Walk and Save Lives!
LOCATION:Stratham Hill Park
UID:e.1659.1206
SEQUENCE:3
DTSTAMP:20260419T200511Z
URL:https://business.portsmouthchamber.org/events/details/paws-walk-06-08-2014-1206
END:VEVENT

END:VCALENDAR
