BEGIN:VCALENDAR
VERSION:2.0
PRODID:-//ChamberMaster//Event Calendar 2.0//EN
METHOD:PUBLISH
X-PUBLISHED-TTL:P3D
REFRESH-INTERVAL:P3D
CALSCALE:GREGORIAN
BEGIN:VEVENT
DTSTART:20170401T190000Z
DTEND:20170401T213000Z
X-MICROSOFT-CDO-ALLDAYEVENT:FALSE
SUMMARY:PDP presents CATS at The STAR Theatre March 17- April 2.
DESCRIPTION:CATS\, the record-breaking musical spectacular\, is back on the PDP stage after their SOLD OUT 2016 production!  Patrick Dorow Productions (PDP)\, the Seacoast's acclaimed\, top-quality\, live performance theater and education company\, is thrilled to present CATS\, the third longest-running show in Broadway history running March 17   April 2\, 2017\, at The Star Theatre in Kittery\, Maine.  Tickets are available at The PDP Box office Monday thru Wednesday 12pm to 4pm\, 170 West Road suite 15\, Portsmouth\, NH (603) 294-9103 or online: www.patrickdorowproductions.com.  CATS runs Thursday March 23 and 30 at 7pm\, Fridays at 8pm\, Saturdays at 3 and 8pm\, Sundays at 5pm\, and a matinee at 1pm on April 2 is also available. Reserved seating: adult $27\, senior $25\, Student $20.\n\n \n\nCATS has been performed around the world and has been translated into more than 20 languages. A musical composed by Andrew Lloyd Webber\, Cats Is based on Old Possum's Book of Practical Cats by T. S. Eliot.  The musical tells the story of a tribe of cats called the Jellicles and the night they make what is known as "the Jellicle choice" and decide which cat will ascend and come back to a new life. \n\n \n\nPDP is pleased to have the majority of its cast returning from their sold out performances in 2016!  Christine (Dulong) Faulkner as Grizabella\, Patrick Dorow as Rum Tum Tugger\, Kirk Simpson as Old Deuteronomy\, Sarah Condon as Victoria\, Kelsey Andrae as Bombalurina\, Jared Splaine as Macavity\, Melissa Hanley as Mistoffelees\, Amara Decker as Rumpleteaser\, and Joshua Lapierre as Gus.  Also appearing are Chelsea Hermann\, Jason Faria\, Elle Shaheen\, Victor Carrillo Tracey\, and a cast of over twenty-five.\n\n \n\nPDP's season sponsors are Olde Port Properties and Margaritas Mexican Restaurant.\n\n \n\nThis production was made possible by the generous show sponsorship of The Divas of 18 Congress Street.\n\n \n\nPDP's Community Focus Program partner for this production will be The Center for Wildlife. PDP will be sharing their spotlight to heighten awareness and help raise funds for The Center. Their mission is to build a sustainable future for wildlife in our community through medical treatment\, rehabilitation\, educational outreach\, research\, and conservation activities. \n\n \n\nShow dates/times:\n\nFriday\, March 17- 8pm\n\nSaturday\, March 18- 3pm and 8pm\n\nSunday March 19-5pm\n\nThursday\, March 23- 7pm\n\nFriday\, March 24- 8pm\n\nSaturday\, March 25- 3pm and 8pm\n\nSunday\, March 26- 5pm\n\nThursday\, March 30- 7pm\n\nFriday\, March 31- 8pm\n\nSaturday\, April 1- 3pm and 8pm\n\nSunday\, April 2- 1pm and 5pm\n\n \n\nReserved seating:\n\nAdult - $27\n\nSenior- $25\n\nStudent- $20\n\n*Ticket prices do not include service/processing fees.\n\n \n\n \n\nRated: family friendly
X-ALT-DESC;FMTTYPE=text/html:<strong><em>CATS</em></strong>\, the record-breaking musical spectacular\, is back on the PDP stage after their SOLD OUT 2016 production!&nbsp\; Patrick Dorow Productions (PDP)\, the Seacoast&rsquo\;s acclaimed\, top-quality\, live performance theater and education company\,&nbsp\;is thrilled to present <strong><em>CATS\, </em></strong>the&nbsp\;third longest-running show in Broadway history running March 17 &ndash\; April 2\, 2017\, at The Star Theatre in Kittery\, Maine. &nbsp\;Tickets are available at <span style="color:#0D0D0D">The PDP Box office Monday thru Wednesday 12pm to 4pm\, 170 West Road suite 15\, Portsmouth\, NH (603) 294-9103 or online: </span><a href="http://www.patrickdorowproductions.com">www.patrickdorowproductions.com</a>. &nbsp\;<strong><em>CATS </em></strong>runs Thursday March 23 and 30 at 7pm\, Fridays at 8pm\, Saturdays at 3 and 8pm\, Sundays at 5pm\, and a matinee at 1pm on April 2 is also available. Reserved seating: adult $27\, senior $25\, Student $20.<br />\n&nbsp\;<br />\n<strong><em>CATS</em></strong> has been performed around the world and has been translated into more than 20 languages. A musical composed by&nbsp\;Andrew Lloyd Webber\, Cats Is based on&nbsp\;Old Possum&#39\;s Book of Practical Cats&nbsp\;by&nbsp\;T. S. Eliot.&nbsp\; The musical tells the story of a tribe of cats called the Jellicles and the night they make what is known as &quot\;the Jellicle choice&quot\; and decide which cat will ascend and come back to a new life.&nbsp\;<br />\n&nbsp\;<br />\nPDP is pleased to have the majority of its cast returning from their sold out performances in 2016!&nbsp\; Christine (Dulong) Faulkner as Grizabella\, Patrick Dorow as Rum Tum Tugger\, Kirk Simpson as Old Deuteronomy\, Sarah Condon as Victoria\, Kelsey Andrae as Bombalurina\, Jared Splaine as Macavity\, Melissa Hanley as Mistoffelees\, Amara Decker as Rumpleteaser\, and Joshua Lapierre as Gus. &nbsp\;Also appearing are Chelsea Hermann\, Jason Faria\, Elle Shaheen\, Victor Carrillo Tracey\, and a cast of over twenty-five.<br />\n&nbsp\;<br />\nPDP&rsquo\;s season sponsors are Olde Port Properties and Margaritas Mexican Restaurant.<br />\n&nbsp\;<br />\nThis production was made possible by the generous show sponsorship of The Divas of 18 Congress Street.<br />\n&nbsp\;<br />\nPDP&rsquo\;s Community Focus Program partner for this production will be The Center for Wildlife. PDP will be sharing their spotlight to heighten awareness and help raise funds for The Center. Their mission is to build a sustainable future for wildlife in our community through medical treatment\, rehabilitation\, educational outreach\, research\, and conservation activities.&nbsp\;<br />\n&nbsp\;<br />\n<strong><u>Show dates/times:</u></strong><br />\nFriday\, March 17- 8pm<br />\nSaturday\, March 18- 3pm and 8pm<br />\nSunday March 19-5pm<br />\nThursday\, March 23- 7pm<br />\nFriday\, March 24- 8pm<br />\nSaturday\, March 25- 3pm and 8pm<br />\nSunday\, March 26- 5pm<br />\nThursday\, March 30- 7pm<br />\nFriday\, March 31- 8pm<br />\nSaturday\, April 1- 3pm and 8pm<br />\nSunday\, April 2- 1pm and 5pm<br />\n&nbsp\;<br />\n<strong>Reserved seating:</strong><br />\nAdult - $27<br />\nSenior- $25<br />\nStudent- $20<br />\n*Ticket prices do not include service/processing fees.<br />\n&nbsp\;<br />\n&nbsp\;<br />\n<strong>Rated: </strong>family friendly<br />\n&nbsp\;<br />\n&nbsp\;<br />\n&nbsp\;<br />\n<br />\n&nbsp\;<br />\n&nbsp\;<br />\n&nbsp\;<br />\n&nbsp\;
LOCATION:STAR Theatre 120 Rogers Road Kittery\, Me 03904
UID:e.1659.30191
SEQUENCE:3
DTSTAMP:20260421T132121Z
URL:https://business.portsmouthchamber.org/events/details/pdp-presents-cats-at-the-star-theatre-march-17-april-2-04-01-2017-30191
END:VEVENT

END:VCALENDAR
