BEGIN:VCALENDAR
VERSION:2.0
PRODID:-//ChamberMaster//Event Calendar 2.0//EN
METHOD:PUBLISH
X-PUBLISHED-TTL:P3D
REFRESH-INTERVAL:P3D
CALSCALE:GREGORIAN
BEGIN:VEVENT
DTSTART:20161217T210000Z
DTEND:20161217T223000Z
X-MICROSOFT-CDO-ALLDAYEVENT:FALSE
SUMMARY:Pickwick's Holiday Dinner at Strawbery Banke's William Pitt Tavern
DESCRIPTION:Pickwick's Mercantile is proud to present the 2nd annual Holiday Dinners at the William Pitt Tavern in Strawbery Banke.  Join the spirited revelry for an unforgettable evening with our family and yours.\n\n\n\nChef Evan Mallet of the Black Trumpet prepares a delectable\, four course colonial fare fit for only the most joyous of occasions. Vegetarian & children's menus are also available!
X-ALT-DESC;FMTTYPE=text/html:Pickwick&#39\;s Mercantile is proud to present the 2nd annual Holiday Dinners at the William Pitt Tavern in Strawbery Banke. &nbsp\;Join the spirited revelry for an unforgettable evening with our family and yours.<br />\n<br />\nChef Evan Mallet of the Black Trumpet prepares a delectable\, four course colonial fare fit for only the most joyous of occasions. Vegetarian &amp\; children&#39\;s menus are also available!
LOCATION:
UID:e.1659.28154
SEQUENCE:3
DTSTAMP:20260421T193241Z
URL:https://business.portsmouthchamber.org/events/details/pickwick-s-holiday-dinner-at-strawbery-banke-s-william-pitt-tavern-12-17-2016-28154
END:VEVENT

END:VCALENDAR
