BEGIN:VCALENDAR
VERSION:2.0
PRODID:-//ChamberMaster//Event Calendar 2.0//EN
METHOD:PUBLISH
X-PUBLISHED-TTL:P3D
REFRESH-INTERVAL:P3D
CALSCALE:GREGORIAN
BEGIN:VEVENT
DTSTART:20161212T170000Z
DTEND:20161212T190000Z
X-MICROSOFT-CDO-ALLDAYEVENT:FALSE
SUMMARY:pin Hide Map USS Albacore Submarine and Museum host Wreaths Across America
DESCRIPTION:Albacore Park\, in cooperation with Thresher Base   United States Submarine Veterans\, has volunteered to conduct the WAA ceremony this year at the USS Albacore. Seven ceremonial wreaths will be placed to remember all soldiers\, sailors\, airmen\, and marines who served\, honor their sacrifices\, and teach our younger generations about the high cost of our freedoms.\n\n\n\nSpecially designated wreaths for the Army\, Marines\, Navy\, Air Force\, Coast Guard\, Merchant Marine\, and POW/MIA will be placed on memorials during a ceremony that will be coordinated simultaneously at over 1\,000 participating locations all across the Country.\n\n\n\nIn 2015 it is projected that around a million wreaths will be placed nationwide\, by over 600\,000 volunteers as part of the Wreaths Across America mission to Remember\, Honor\, and Teach.\n\n\n\nWreaths across America TM (WAA) is a national nonprofit organization founded in 2007 to continue and expand the annual wreath-laying ceremony at Arlington National Cemetery begun by Maine businessman\, Morrill Worcester\, in 1992
X-ALT-DESC;FMTTYPE=text/html:Albacore Park\, in cooperation with Thresher Base &ndash\; United States Submarine Veterans\, has volunteered to conduct the WAA ceremony this year at the USS Albacore. Seven ceremonial wreaths will be placed to remember all soldiers\, sailors\, airmen\, and marines who served\, honor their sacrifices\, and teach our younger generations about the high cost of our freedoms.<br />\n<br />\nSpecially designated wreaths for the Army\, Marines\, Navy\, Air Force\, Coast Guard\, Merchant Marine\, and POW/MIA will be placed on memorials during a ceremony that will be coordinated simultaneously at over 1\,000 participating locations all across the Country.<br />\n<br />\nIn 2015 it is projected that around a million wreaths will be placed nationwide\, by over 600\,000 volunteers as part of the Wreaths Across America mission to Remember\, Honor\, and Teach.<br />\n<br />\nWreaths across America TM (WAA) is a national nonprofit organization founded in 2007 to continue and expand the annual wreath-laying ceremony at Arlington National Cemetery begun by Maine businessman\, Morrill Worcester\, in 1992
LOCATION:USS Albacore Submarine and Museum 600 Market St\, Portsmouth
UID:e.1659.28167
SEQUENCE:3
DTSTAMP:20260421T193243Z
URL:https://business.portsmouthchamber.org/events/details/pin-hide-map-uss-albacore-submarine-and-museum-host-wreaths-across-america-28167
END:VEVENT

END:VCALENDAR
