BEGIN:VCALENDAR
VERSION:2.0
PRODID:-//ChamberMaster//Event Calendar 2.0//EN
METHOD:PUBLISH
X-PUBLISHED-TTL:P3D
REFRESH-INTERVAL:P3D
CALSCALE:GREGORIAN
BEGIN:VEVENT
DTSTART;VALUE=DATE:20140817
DTEND;VALUE=DATE:20140818
TRANSP:TRANSPARENT
X-MICROSOFT-CDO-ALLDAYEVENT:TRUE
SUMMARY:Piscataqua Café Concerts Series
DESCRIPTION:Join us for special Sunday Concerts at the Piscataqua Caf \, on the river in beautiful Newcastle\, New Hampshire. Guests will have the option of sailing aboard the gundalow to and from the concert from the Prescott Park Dock or meeting us at the Piscataqua Caf  and receiving a free sail pass for a future sail. There will be 3 different concerts including Gordon Bock\, Harvey Reid\, and David Coffin & Kent Allyn.
X-ALT-DESC;FMTTYPE=text/html:<span style="background: white\; color: black\; font-family: &quot\;Arial&quot\;\,&quot\;sans-serif&quot\;\; font-size: 12pt\; mso-fareast-font-family: Batang\; mso-ansi-language: EN-US\; mso-fareast-language: EN-US\; mso-bidi-language: AR-SA\; mso-bidi-font-weight: bold\;">Join us for special Sunday Concerts at the Piscataqua Caf&eacute\;\, on the river in beautiful Newcastle\, New Hampshire. Guests will have the option of sailing aboard the gundalow to and from the concert from the Prescott Park Dock or meeting us at the Piscataqua Caf&eacute\; and receiving a free sail pass for a future sail. There will be 3 different concerts including Gordon Bock\, Harvey Reid\, and David Coffin &amp\; Kent Allyn.&nbsp\;</span>
LOCATION:
UID:e.1659.2801
SEQUENCE:3
DTSTAMP:20260419T175124Z
URL:https://business.portsmouthchamber.org/events/details/piscataqua-caf&#233;-concerts-series-08-17-2014-2801
END:VEVENT

END:VCALENDAR
