BEGIN:VCALENDAR
VERSION:2.0
PRODID:-//ChamberMaster//Event Calendar 2.0//EN
METHOD:PUBLISH
X-PUBLISHED-TTL:P3D
REFRESH-INTERVAL:P3D
CALSCALE:GREGORIAN
BEGIN:VEVENT
DTSTART:20161022T140000Z
DTEND:20161022T150000Z
X-MICROSOFT-CDO-ALLDAYEVENT:FALSE
SUMMARY:Piscataqua Waterfront Walking Tour
DESCRIPTION:The Portsmouth Advocates present the fourth annual series of guided walking tours lead by Richard M. Candee\, author of Building Portsmouth. The 2016 schedule features seven of Portsmouth's famous neighborhoods exploring the unique architectural landscape and the stories embedded in the bricks and mortar. All tours begin at Discover Portsmouth located at 10 Middle Street. October 22\, Piscataqua Waterfront Tour Walking the Portsmouth Waterfront: Georgian Mansion's\, Federal Warehouses & Industrial Portsmouth then & now
X-ALT-DESC;FMTTYPE=text/html:The Portsmouth Advocates present the fourth annual series of guided walking tours lead by Richard M. Candee\, author of Building Portsmouth. The 2016 schedule features seven of Portsmouth&rsquo\;s famous neighborhoods exploring the unique architectural landscape and the stories embedded in the bricks and mortar. All tours begin at Discover Portsmouth located at 10 Middle Street. October 22\, Piscataqua Waterfront Tour Walking the Portsmouth Waterfront: Georgian Mansion&rsquo\;s\, Federal Warehouses &amp\; Industrial Portsmouth then &amp\; now
LOCATION:Discover Portsmouth 10 Middle St
UID:e.1659.24478
SEQUENCE:3
DTSTAMP:20260421T224922Z
URL:https://business.portsmouthchamber.org/events/details/piscataqua-waterfront-walking-tour-24478
END:VEVENT

END:VCALENDAR
