BEGIN:VCALENDAR
VERSION:2.0
PRODID:-//ChamberMaster//Event Calendar 2.0//EN
METHOD:PUBLISH
X-PUBLISHED-TTL:P3D
REFRESH-INTERVAL:P3D
CALSCALE:GREGORIAN
BEGIN:VEVENT
DTSTART:20161111T010000Z
DTEND:20161111T030000Z
X-MICROSOFT-CDO-ALLDAYEVENT:FALSE
SUMMARY:Players' Ring Presents: Ye Merry Gentlemen
DESCRIPTION:It's Christmas Eve and the family is trying to convince George (Christopher Savage) that there's no such thing as Santa Claus\, but George may have some surprises up his sleeve\, as does Ye Merry Gentlemen.\n\n\n\nCome and celebrate the exclusive world premiere finale to the highly successful\, award-winning Sharp Dressed Men series.
X-ALT-DESC;FMTTYPE=text/html:It&rsquo\;s Christmas Eve and the family is trying to convince George (Christopher Savage) that there&rsquo\;s no such thing as Santa Claus\, but George may have some surprises up his sleeve\, as does Ye Merry Gentlemen.<br />\n<br />\nCome and celebrate the exclusive world premiere finale to the highly successful\, award-winning Sharp Dressed Men series.
LOCATION:105 Marcy Street Portsmouth
UID:e.1659.27570
SEQUENCE:3
DTSTAMP:20260421T211702Z
URL:https://business.portsmouthchamber.org/events/details/players-ring-presents-ye-merry-gentlemen-27570
END:VEVENT

END:VCALENDAR
