BEGIN:VCALENDAR
VERSION:2.0
PRODID:-//ChamberMaster//Event Calendar 2.0//EN
METHOD:PUBLISH
X-PUBLISHED-TTL:P3D
REFRESH-INTERVAL:P3D
CALSCALE:GREGORIAN
BEGIN:VEVENT
DTSTART:20160305T000000Z
DTEND:20160305T030000Z
X-MICROSOFT-CDO-ALLDAYEVENT:FALSE
SUMMARY:PMAC Jazz Night 2016: Remembering David Bowie
DESCRIPTION:The PMAC faculty will commemorate the passing of a 20th Century icon in this year's installment of Jazz Night. Rock legend David Bowie was never one to shy away from jazz. He cited Charlie "Bird" Parker as one of his early influences\, and the saxophone played a central role in much of his music. Over the years he worked with many jazz musicians including Lenny Picket\, David Sanborn and Mike Garson. For his final album\, released in January 2016\, just days before his passing\, Bowie collaborated with a quintet of young jazz artists\, among the best in NYC today. For this concert\, the PMAC jazz faculty will curate a unique mix of their favorite Bowie tunes\, in special jazz arrangements for the occasion. Don't miss this one-time event celebrating the life and music of David Bowie!
X-ALT-DESC;FMTTYPE=text/html:<span style="color: rgb(102\, 102\, 102)\; font-family: 'Droid Sans'\, 'Lucida Grande'\, Arial\, sans-serif\; font-size: 16.8px\; line-height: 26.4px\;">The PMAC faculty will commemorate the passing of a 20th Century icon in this year&rsquo\;s installment of Jazz Night. Rock legend David Bowie was never one to shy away from jazz. He cited Charlie &ldquo\;Bird&rdquo\; Parker as one of his early influences\, and the saxophone played a central role in much of his music. Over the years he worked with many jazz musicians including Lenny Picket\, David Sanborn and Mike Garson. For his final album\, released in January 2016\, just days before his passing\, Bowie collaborated with a quintet of young jazz artists\, among the best in NYC today. For this concert\, the PMAC jazz faculty will curate a unique mix of their favorite Bowie tunes\, in special jazz arrangements for the occasion. Don&rsquo\;t miss this one-time event celebrating the life and music of David Bowie!</span>
LOCATION:The Music Hall Loft 131 Congress Street\, Portsmouth
UID:e.1659.16682
SEQUENCE:3
DTSTAMP:20260420T145639Z
URL:https://business.portsmouthchamber.org/events/details/pmac-jazz-night-2016-remembering-david-bowie-03-04-2016-16682
END:VEVENT

END:VCALENDAR
