BEGIN:VCALENDAR
VERSION:2.0
PRODID:-//ChamberMaster//Event Calendar 2.0//EN
METHOD:PUBLISH
X-PUBLISHED-TTL:P3D
REFRESH-INTERVAL:P3D
CALSCALE:GREGORIAN
BEGIN:VEVENT
DTSTART:20260426T180000Z
DTEND:20260426T184500Z
X-MICROSOFT-CDO-ALLDAYEVENT:FALSE
SUMMARY:Polly's Sparkling Water Friend Storytime and Book Signing with Author Nancy Kaplan Corbett
DESCRIPTION:Polly's Sparkling Water Friend Storytime & Book Signing with Author Nancy Kaplan Corbett\n\nJoin us for a special program with Nancy Kaplan Corbett\, author of "Polly's Sparkling Water Friend." Come enjoy storytime with the author on Sunday\, April 26th at 11 am or 2 pm\, who will read her story\, have a fun activity\, and be available to sign copies of the book. The activity will be a water cycle experiment\, and coloring sheets will be available for our younger guests. Each program will be approximately 45 minutes.\n\nPolly's Sparkling Water Friend is a whimsical tale that connects children to nature. While standing on the river's edge behind her home\, a young child meets a shimmering patch of water that rises from the river in the shape of a wave. This water friend teaches her about the water cycle and shows what it's like to have a friend who is continuously changing.\n\nYou can learn more and get tickets here:https://fareharbor.com/embeds/book/seacoastsciencecenter/items/717113/calendar/2026/4/?flow=947004&full-items=yes\n\n\n	Tickets include the cost of admission to Seacoast Science Center.\n	Each program will be approximately 45 minutes. \n	A limited quantity of books will be available for purchase in SSC's Nature Store.\n\n\nJoin us for a special program with Nancy Kaplan Corbett\, author of "Polly's Sparkling Water Friend." Come enjoy storytime with the author on Sunday\, April 26th at 11 am or 2 pm\, who will read her story\, have a fun activity\, and be available to sign copies of the book.
X-ALT-DESC;FMTTYPE=text/html:<p><strong>Polly&rsquo\;s Sparkling Water Friend Storytime &amp\; Book Signing with Author Nancy Kaplan Corbett</strong></p>\n\n<p>Join us for a special program with Nancy Kaplan Corbett\, author of &ldquo\;Polly&rsquo\;s Sparkling Water Friend.&rdquo\; Come enjoy storytime with the author on Sunday\, April 26th at 11 am or 2 pm\, who will read her story\, have a fun activity\, and be available to sign copies of the book. The activity will be a water cycle experiment\, and coloring sheets will be available for our younger guests. Each program will be approximately 45 minutes.</p>\n\n<p>Polly&rsquo\;s Sparkling Water Friend is a whimsical tale that connects children to nature. While standing on the river&rsquo\;s edge behind her home\, a young child meets a shimmering patch of water that rises from the river in the shape of a wave. This water friend teaches her about the water cycle and shows what it&rsquo\;s like to have a friend who is continuously changing.</p>\n\n<p>You can learn more and get tickets here:https://fareharbor.com/embeds/book/seacoastsciencecenter/items/717113/calendar/2026/4/?flow=947004&amp\;full-items=yes</p>\n\n<ul>\n	<li>Tickets include the cost of admission to Seacoast Science Center.</li>\n	<li>Each program will be approximately 45 minutes.&nbsp\;</li>\n	<li>A limited quantity of books will be available for purchase in SSC&rsquo\;s Nature Store.</li>\n</ul>\n\n<p>Join us for a special program with Nancy Kaplan Corbett\, author of &ldquo\;Polly&rsquo\;s Sparkling Water Friend.&rdquo\; Come enjoy storytime with the author on Sunday\, April 26th at 11 am or 2 pm\, who will read her story\, have a fun activity\, and be available to sign copies of the book.</p>\n
LOCATION:Seacoast Science Center 570 Ocean Blvd. in Odiorne Point State Park Rye\, NH 03842
UID:e.1659.91109
SEQUENCE:3
DTSTAMP:20260421T125046Z
URL:https://business.portsmouthchamber.org/events/details/polly-s-sparkling-water-friend-storytime-and-book-signing-with-author-nancy-kaplan-corbett-91109
END:VEVENT

END:VCALENDAR
