BEGIN:VCALENDAR
VERSION:2.0
PRODID:-//ChamberMaster//Event Calendar 2.0//EN
METHOD:PUBLISH
X-PUBLISHED-TTL:P3D
REFRESH-INTERVAL:P3D
CALSCALE:GREGORIAN
BEGIN:VEVENT
DTSTART:20170509T210000Z
DTEND:20170509T210000Z
X-MICROSOFT-CDO-ALLDAYEVENT:FALSE
SUMMARY:Pop Up Party by Mr Mac
DESCRIPTION:
X-ALT-DESC;FMTTYPE=text/html:
LOCATION:Lafayette Road Route 1 South Portrsmouth NH 03801
UID:e.1659.28264
SEQUENCE:3
DTSTAMP:20260421T131639Z
URL:https://business.portsmouthchamber.org/events/details/pop-up-party-by-mr-mac-28264
END:VEVENT

END:VCALENDAR
