BEGIN:VCALENDAR
VERSION:2.0
PRODID:-//ChamberMaster//Event Calendar 2.0//EN
METHOD:PUBLISH
X-PUBLISHED-TTL:P3D
REFRESH-INTERVAL:P3D
CALSCALE:GREGORIAN
BEGIN:VEVENT
DTSTART:20161110T230000Z
DTEND:20161111T013000Z
X-MICROSOFT-CDO-ALLDAYEVENT:FALSE
SUMMARY:Port City Makerspace: Intro Soldering
DESCRIPTION:If you want to make your own electronic circuits\, you need to know how to solder. If you want to make a simple flashy light\, you need to solder. If you want to make a fireworks control board\, you need to solder. If you want to make a power supply\, you need to solder. If you want to make a robot\, well\, you can get kits with lots of cables and plugin things\, but if you want it to look nice and neat you solder it!\n\n\n\nIn this class you will solder together two simple light-up kits. One is a badge that you can wear to declare to others your soldering prowess\, and the other is a bug-shaped light that only turns on in the dark. Spoooky. Or comforting if you like red night-lights.
X-ALT-DESC;FMTTYPE=text/html:If you want to make your own electronic circuits\, you need to know how to solder. If you want to make a simple flashy light\, you need to solder. If you want to make a fireworks control board\, you need to solder. If you want to make a power supply\, you need to solder. If you want to make a robot\, well\, you can get kits with lots of cables and plugin things\, but if you want it to look nice and neat you solder it!<br />\n<br />\nIn this class you will solder together two simple light-up kits. One is a badge that you can wear to declare to others your soldering prowess\, and the other is a bug-shaped light that only turns on in the dark. Spoooky. Or comforting if you like red night-lights.
LOCATION:Port City Makerspace 68 Morning St\, Portsmouth
UID:e.1659.28007
SEQUENCE:3
DTSTAMP:20260421T210329Z
URL:https://business.portsmouthchamber.org/events/details/port-city-makerspace-intro-soldering-28007
END:VEVENT

END:VCALENDAR
