BEGIN:VCALENDAR
VERSION:2.0
PRODID:-//ChamberMaster//Event Calendar 2.0//EN
METHOD:PUBLISH
X-PUBLISHED-TTL:P3D
REFRESH-INTERVAL:P3D
CALSCALE:GREGORIAN
BEGIN:VEVENT
DTSTART:20161002T180000Z
DTEND:20161002T220000Z
X-MICROSOFT-CDO-ALLDAYEVENT:FALSE
SUMMARY:PortQuest
DESCRIPTION:Graphic Details\, Inc.\, invites you to register for PortQuest\, a convenient\, family-friendly quest featuring a super-fun mobile app that will guide you through downtown Portsmouth by cryptic clues. Join in on the fun and discover some local history along the way!   Registrants can check in at the Seacoast Repertory Theatre any time between 2pm and 6pm on Sunday\, October 2nd to participate.   The adventure will take approximately 1-hour to complete.   You can participate solo\, or join in as a team.   There will be memorabilia and prizes to commemorate your participation\, as well as prints and other goodies on sale to benefit both Cross Roads House and the Seacoast Rep.   For your convenience\, we will send you an email notification two weeks prior to the event to download the FREE app from iTunes and Google Play stores.   Registration is free\, with a suggested $10 donation to Cross Roads House per participant. Spread the word! Even if you're local\, we promise you'll learn something new about this great city and you'll support some great local causes while you're at it.
X-ALT-DESC;FMTTYPE=text/html:Graphic Details\, Inc.\, invites you to register for PortQuest\, a convenient\, family-friendly quest featuring a super-fun mobile app that will guide you through downtown Portsmouth by cryptic clues. Join in on the fun and discover some local history along the way! &bull\; Registrants can check in at the Seacoast Repertory Theatre any time between 2pm and 6pm on Sunday\, October 2nd to participate. &bull\; The adventure will take approximately 1-hour to complete. &bull\; You can participate solo\, or join in as a team. &bull\; There will be memorabilia and prizes to commemorate your participation\, as well as prints and other goodies on sale to benefit both Cross Roads House and the Seacoast Rep. &bull\; For your convenience\, we will send you an email notification two weeks prior to the event to download the FREE app from iTunes and Google Play stores. &bull\; Registration is free\, with a suggested $10 donation to Cross Roads House per participant. Spread the word! Even if you&#39\;re local\, we promise you&#39\;ll learn something new about this great city and you&#39\;ll support some great local causes while you&rsquo\;re at it.
LOCATION:Seacoast Repertory Theatre
UID:e.1659.23851
SEQUENCE:3
DTSTAMP:20260421T224920Z
URL:https://business.portsmouthchamber.org/events/details/portquest-10-02-2016-23851
END:VEVENT

END:VCALENDAR
