BEGIN:VCALENDAR
VERSION:2.0
PRODID:-//ChamberMaster//Event Calendar 2.0//EN
METHOD:PUBLISH
X-PUBLISHED-TTL:P3D
REFRESH-INTERVAL:P3D
CALSCALE:GREGORIAN
BEGIN:VEVENT
DTSTART:20170218T230000Z
DTEND:20170219T043000Z
X-MICROSOFT-CDO-ALLDAYEVENT:FALSE
SUMMARY:Portsmouth Brewery invites you to Parking Violation Night
DESCRIPTION:JIMMY LAPANZA LOUNGE\, DOWNSTAIRS AT THE PORTSMOUTH BREWERY\n\nBring in a genuine unpaid City of Portsmouth Parking ticket\, issued to you within the previous 14 days\, write out a payment check\, and your first beer is on the house. We'll even provide a postage stamp and drop it in the mail for you. Valid all over restaurant. Limit one per week.\n\n\n\nFine print: we reserve the right to refuse this offer to anyone we think is kind of sketchy and might not be entirely on the up and up.
X-ALT-DESC;FMTTYPE=text/html:JIMMY LAPANZA LOUNGE\, DOWNSTAIRS AT THE PORTSMOUTH BREWERY<br />\nBring in a genuine unpaid City of Portsmouth Parking ticket\, issued to you within the previous 14 days\, write out a payment check\, and your first beer is on the house. We&#39\;ll even provide a postage stamp and drop it in the mail for you. Valid all over restaurant. Limit one per week.<br />\n<br />\nFine print: we reserve the right to refuse this offer to anyone we think is kind of sketchy and might not be entirely on the up and up.
LOCATION:Portsmouth Brewery 56 Market St\, Portsmouth
UID:e.1659.29910
SEQUENCE:3
DTSTAMP:20260421T164418Z
URL:https://business.portsmouthchamber.org/events/details/portsmouth-brewery-invites-you-to-parking-violation-night-29910
END:VEVENT

END:VCALENDAR
