BEGIN:VCALENDAR
VERSION:2.0
PRODID:-//ChamberMaster//Event Calendar 2.0//EN
METHOD:PUBLISH
X-PUBLISHED-TTL:P3D
REFRESH-INTERVAL:P3D
CALSCALE:GREGORIAN
BEGIN:VEVENT
DTSTART:20170221T230000Z
DTEND:20170222T010000Z
X-MICROSOFT-CDO-ALLDAYEVENT:FALSE
SUMMARY:Portsmouth Brewery's Beer Social
DESCRIPTION:Ever wonder how many ways there could be to pair potato snacks with brown ales and vintage big beers? We will make your head spin with an array of passed spud- d'oeurves and special offerings from our beer cellar.
X-ALT-DESC;FMTTYPE=text/html:Ever wonder how many ways there could be to pair potato snacks with brown ales and vintage big beers? We will make your head spin with an array of passed spud- d&rsquo\;oeurves and special offerings from our beer cellar.<br />\n&nbsp\;
LOCATION:Portsmouth Brewery 56 Market St\, Portsmouth *Portsmouth Brewery side dinning room
UID:e.1659.29916
SEQUENCE:3
DTSTAMP:20260421T164214Z
URL:https://business.portsmouthchamber.org/events/details/portsmouth-brewery-s-beer-social-29916
END:VEVENT

END:VCALENDAR
