BEGIN:VCALENDAR
VERSION:2.0
PRODID:-//ChamberMaster//Event Calendar 2.0//EN
METHOD:PUBLISH
X-PUBLISHED-TTL:P3D
REFRESH-INTERVAL:P3D
CALSCALE:GREGORIAN
BEGIN:VEVENT
DTSTART:20170328T220000Z
DTEND:20170329T000000Z
X-MICROSOFT-CDO-ALLDAYEVENT:FALSE
SUMMARY:Portsmouth Brewery's Beer Social
DESCRIPTION:"Phunk & Fromage" - Bit-sized appetizers created with carefully selected local and regional cheeses on parade with our finest Belgian and sour beers.
X-ALT-DESC;FMTTYPE=text/html:&quot\;Phunk &amp\; Fromage&quot\; - Bit-sized appetizers created with carefully selected local and regional cheeses on parade with our finest Belgian and sour beers.&nbsp\;
LOCATION:Hayseed Restaurant 105 Towle Farm Rd\, Hampton
UID:e.1659.29927
SEQUENCE:3
DTSTAMP:20260421T151426Z
URL:https://business.portsmouthchamber.org/events/details/portsmouth-brewery-s-beer-social-29927
END:VEVENT

END:VCALENDAR
