BEGIN:VCALENDAR
VERSION:2.0
PRODID:-//ChamberMaster//Event Calendar 2.0//EN
METHOD:PUBLISH
X-PUBLISHED-TTL:P3D
REFRESH-INTERVAL:P3D
CALSCALE:GREGORIAN
BEGIN:VEVENT
DTSTART;VALUE=DATE:20140913
DTEND;VALUE=DATE:20140914
TRANSP:TRANSPARENT
X-MICROSOFT-CDO-ALLDAYEVENT:TRUE
SUMMARY:Portsmouth Craft Beer Event
DESCRIPTION:Craft and culinary world tour\, Strawberry Banke Musuem\, September 13.
X-ALT-DESC;FMTTYPE=text/html:<span style="font-family: Georgia\; font-size: 11px\; background-color: rgb(255\, 255\, 255)\;">C</span><span style="font-family: Georgia\; font-size: 12px\; background-color: rgb(255\, 255\, 255)\;"><span style="font-family: arial\, helvetica\, sans-serif\;">raft and culinary world tour\, Strawberry Banke Musuem\, September 13.</span></span>
LOCATION:
UID:e.1659.2141
SEQUENCE:3
DTSTAMP:20260419T162103Z
URL:https://business.portsmouthchamber.org/events/details/portsmouth-craft-beer-event-09-13-2014-2141
END:VEVENT

END:VCALENDAR
