BEGIN:VCALENDAR
VERSION:2.0
PRODID:-//ChamberMaster//Event Calendar 2.0//EN
METHOD:PUBLISH
X-PUBLISHED-TTL:P3D
REFRESH-INTERVAL:P3D
CALSCALE:GREGORIAN
BEGIN:VEVENT
DTSTART:20170115T163000Z
DTEND:20170115T190000Z
X-MICROSOFT-CDO-ALLDAYEVENT:FALSE
SUMMARY:Portsmouth Eats Tasting Tour
DESCRIPTION:The Best of Portsmouth Tasting Tour will run for the holiday weekend. From Rachel Ray to Phantom Gourmet\, you're invited to taste at restaurants you've seen on TV or in magazines. The 2 1/2 hour walking tour will take you through downtown Portsmouth for 5 restaurant tastings.
X-ALT-DESC;FMTTYPE=text/html:The Best of Portsmouth Tasting Tour will run for the holiday weekend. From Rachel Ray to Phantom Gourmet\, you&#39\;re invited to taste at restaurants you&#39\;ve seen on TV or in magazines. The 2 1/2 hour walking tour will take you through downtown Portsmouth for 5 restaurant tastings.
LOCATION:Meeting location given with ticket purchase confirmation
UID:e.1659.29651
SEQUENCE:3
DTSTAMP:20260421T181651Z
URL:https://business.portsmouthchamber.org/events/details/portsmouth-eats-tasting-tour-29651
END:VEVENT

END:VCALENDAR
