BEGIN:VCALENDAR
VERSION:2.0
PRODID:-//ChamberMaster//Event Calendar 2.0//EN
METHOD:PUBLISH
X-PUBLISHED-TTL:P3D
REFRESH-INTERVAL:P3D
CALSCALE:GREGORIAN
BEGIN:VEVENT
DTSTART;VALUE=DATE:20141031
DTEND;VALUE=DATE:20141101
TRANSP:TRANSPARENT
X-MICROSOFT-CDO-ALLDAYEVENT:TRUE
SUMMARY:Portsmouth Halloween Parade
DESCRIPTION:Community participation\, hilarious spectator event\, October 31.
X-ALT-DESC;FMTTYPE=text/html:Community participation\, hilarious spectator event\, October 31.
LOCATION:
UID:e.1659.2151
SEQUENCE:3
DTSTAMP:20260423T151001Z
URL:https://business.portsmouthchamber.org/events/details/portsmouth-halloween-parade-10-31-2014-2151
END:VEVENT

END:VCALENDAR
