BEGIN:VCALENDAR
VERSION:2.0
PRODID:-//ChamberMaster//Event Calendar 2.0//EN
METHOD:PUBLISH
X-PUBLISHED-TTL:P3D
REFRESH-INTERVAL:P3D
CALSCALE:GREGORIAN
BEGIN:VEVENT
DTSTART;VALUE=DATE:20170615
DTEND;VALUE=DATE:20170616
TRANSP:TRANSPARENT
X-MICROSOFT-CDO-ALLDAYEVENT:TRUE
SUMMARY:Portsmouth Harbor Cruise
DESCRIPTION:A fully narrated Harbor Cruise will take you through nearly 400 years of local and American history from the settlement of the region in 1623 to Portsmouth Harbor's modern day role in the economy and defense of our country. This trip offers wonderful photo opportunities of lighthouses\, mansions\, submarines and historic forts. (Approx. 1.25 hours)
X-ALT-DESC;FMTTYPE=text/html:A fully narrated Harbor Cruise will take you through nearly 400 years of local and American history from the settlement of the region in 1623 to Portsmouth Harbor&#39\;s modern day role in the economy and defense of our country. This trip offers wonderful photo opportunities of lighthouses\, mansions\, submarines and historic forts. (Approx. 1.25 hours)
LOCATION:64 Ceres St\, Portsmouth
UID:e.1659.31764
SEQUENCE:3
DTSTAMP:20260419T133539Z
URL:https://business.portsmouthchamber.org/events/details/portsmouth-harbor-cruise-31764
END:VEVENT

END:VCALENDAR
