BEGIN:VCALENDAR
VERSION:2.0
PRODID:-//ChamberMaster//Event Calendar 2.0//EN
METHOD:PUBLISH
X-PUBLISHED-TTL:P3D
REFRESH-INTERVAL:P3D
CALSCALE:GREGORIAN
BEGIN:VEVENT
DTSTART:20170622T230000Z
DTEND:20170623T003000Z
X-MICROSOFT-CDO-ALLDAYEVENT:FALSE
SUMMARY:Portsmouth Harbor Cruises: The Sunset Wine Cruise
DESCRIPTION:Enjoy a sunset harbor cruise as we swirl\, sip and savor five wines selected and introduced by local wine expert Carla Snow. Ages 21 and over only. 1 hour 30 minutes.
X-ALT-DESC;FMTTYPE=text/html:<span style="font-family: &quot\;Helvetica Neue&quot\;\, Helvetica\, Arial\, sans-serif\; font-size: 14px\;">Enjoy a sunset harbor cruise as we swirl\, sip and savor five wines selected and introduced by local wine expert Carla Snow. Ages 21 and over only. 1 hour 30 minutes.</span>
LOCATION:64 Ceres St\, Portsmouth
UID:e.1659.31491
SEQUENCE:3
DTSTAMP:20260419T120642Z
URL:https://business.portsmouthchamber.org/events/details/portsmouth-harbor-cruises-the-sunset-wine-cruise-31491
END:VEVENT

END:VCALENDAR
