BEGIN:VCALENDAR
VERSION:2.0
PRODID:-//ChamberMaster//Event Calendar 2.0//EN
METHOD:PUBLISH
X-PUBLISHED-TTL:P3D
REFRESH-INTERVAL:P3D
CALSCALE:GREGORIAN
BEGIN:VEVENT
DTSTART:20170502T213000Z
DTEND:20170502T233000Z
X-MICROSOFT-CDO-ALLDAYEVENT:FALSE
SUMMARY:Portsmouth Harbor Events Host the NH Wine Expo
DESCRIPTION:A grand tasting of hundreds of wines available to purchase at 15% off 6 or more bottles. Passed hors d'oeuvres\, artisanal cheese station\, pasta station and more delicious food from Executive Chef Steve Harding. Raw Bar by Saeport Fish.
X-ALT-DESC;FMTTYPE=text/html:A grand tasting of hundreds of wines available to purchase at 15% off 6 or more bottles. Passed hors d&#39\;oeuvres\, artisanal cheese station\, pasta station and more delicious food from Executive Chef Steve Harding. Raw Bar by Saeport Fish.
LOCATION:Portsmouth Harbor Event Conference Center 100 Deer St\, Portsmouth
UID:e.1659.29899
SEQUENCE:3
DTSTAMP:20260421T132215Z
URL:https://business.portsmouthchamber.org/events/details/portsmouth-harbor-events-host-the-nh-wine-expo-29899
END:VEVENT

END:VCALENDAR
