BEGIN:VCALENDAR
VERSION:2.0
PRODID:-//ChamberMaster//Event Calendar 2.0//EN
METHOD:PUBLISH
X-PUBLISHED-TTL:P3D
REFRESH-INTERVAL:P3D
CALSCALE:GREGORIAN
BEGIN:VEVENT
DTSTART:20140928T140000Z
DTEND:20140929T020000Z
X-MICROSOFT-CDO-ALLDAYEVENT:FALSE
SUMMARY:Portsmouth Maritime Folk Festival
DESCRIPTION:The 15th annual Portsmouth Maritime Folk Festival showcases music from the US\, British Isles and Canada at venues in the Market Square area. It will kick off early with a Thursday evening lecture at the Portsmouth Athenaeum with "New Hampshire and the American Clipper Ship Era\," by scholar Glenn Knoblock.\n\nA Saturday evening concert will be held at the First Methodist Church on Miller Ave. This is an all-ages event with audience participation strongly encouraged!\n\nThe Portsmouth Book & Bar will host the Sunday sing from 2:00-4:30PM   and yes! it's that kind of bar\, so bring your thirst for a fine craft brew when you come!\n\nPerformers in 2014 include Andy Kenna\, John Roberts\, Cliff Haslam\,  Moira Craig & Carolyn Robson.
X-ALT-DESC;FMTTYPE=text/html:The 15th annual Portsmouth Maritime Folk Festival showcases music from the US\, British Isles and Canada at venues in the Market Square area. It will kick off early with a Thursday evening lecture at the Portsmouth Athenaeum with &ldquo\;New Hampshire and the American Clipper Ship Era\,&rdquo\; by scholar Glenn Knoblock.<br />\nA Saturday evening concert will be held at the First Methodist Church on Miller Ave. This is an all-ages event with audience participation strongly encouraged!<br />\nThe&nbsp\;Portsmouth Book &amp\; Bar&nbsp\;will host the Sunday sing from 2:00-4:30PM &ndash\; and yes! it&rsquo\;s&nbsp\;<em>that</em>&nbsp\;kind of bar\, so bring your thirst for a fine craft brew when you come!<br />\nPerformers in 2014 include Andy&nbsp\;Kenna\, John Roberts\, Cliff&nbsp\;Haslam\, &nbsp\;Moira Craig &amp\; Carolyn Robson.
LOCATION:
UID:e.1659.2568
SEQUENCE:3
DTSTAMP:20260419T162703Z
URL:https://business.portsmouthchamber.org/events/details/portsmouth-maritime-folk-festival-09-28-2014-2568
END:VEVENT

END:VCALENDAR
