BEGIN:VCALENDAR
VERSION:2.0
PRODID:-//ChamberMaster//Event Calendar 2.0//EN
METHOD:PUBLISH
X-PUBLISHED-TTL:P3D
REFRESH-INTERVAL:P3D
CALSCALE:GREGORIAN
BEGIN:VEVENT
DTSTART:20161021T230000Z
DTEND:20161022T010000Z
X-MICROSOFT-CDO-ALLDAYEVENT:FALSE
SUMMARY:Portsmouth Music and Arts Center: Presents Composer Alen Ilijic in Concert
DESCRIPTION:Avant-garde Serbian composer and multimedia artist Alen Ilijic is coming to PMAC! Straddling boundaries between noise and composition\, Ilijic presents a contemporary marriage of music\, multimedia and performance art. A student of film scoring\, orchestration\, electronic music\, and sound engineering\, Ilijic is also an accomplished visual artist with work in galleries around the world.
X-ALT-DESC;FMTTYPE=text/html:Avant-garde Serbian composer and multimedia artist Alen Ilijic is coming to PMAC! Straddling boundaries between noise and composition\, Ilijic presents a contemporary marriage of music\, multimedia and performance art. A student of film scoring\, orchestration\, electronic music\, and sound engineering\, Ilijic is also an accomplished visual artist with work in galleries around the world.
LOCATION:Portsmouth Music and Arts Center (PMAC) Haas Hall 973 Islington St. Portsmouth\, NH 03801
UID:e.1659.27631
SEQUENCE:3
DTSTAMP:20260421T225841Z
URL:https://business.portsmouthchamber.org/events/details/portsmouth-music-and-arts-center-presents-composer-alen-ilijic-in-concert-27631
END:VEVENT

END:VCALENDAR
