BEGIN:VCALENDAR
VERSION:2.0
PRODID:-//ChamberMaster//Event Calendar 2.0//EN
METHOD:PUBLISH
X-PUBLISHED-TTL:P3D
REFRESH-INTERVAL:P3D
CALSCALE:GREGORIAN
BEGIN:VEVENT
DTSTART;VALUE=DATE:20141105
DTEND;VALUE=DATE:20141110
TRANSP:TRANSPARENT
X-MICROSOFT-CDO-ALLDAYEVENT:TRUE
SUMMARY:Portsmouth Poet Laureate Program - Nancy Hill Poetry Celebration
DESCRIPTION:Portsmouth Poet Laureate Program's\, Nancy Hill Poetry Celebration - City-wide celebration of poetry and art with daily changing events.  November 5 - 9\, 2014.
X-ALT-DESC;FMTTYPE=text/html:<strong style="font-family: arial\, helvetica\, sans-serif\; font-size: 12px\; background-color: rgb(255\, 255\, 255)\;">Portsmouth Poet Laureate Program&#39\;s\,&nbsp\;</strong><strong style="font-family: arial\, helvetica\, sans-serif\; font-size: 12px\; background-color: rgb(255\, 255\, 255)\;"><em>Nancy Hill Poetry Celebration</em></strong><span style="font-family: arial\, helvetica\, sans-serif\; font-size: 12px\; background-color: rgb(255\, 255\, 255)\;">&nbsp\;- City-wide celebration of poetry and art with daily changing events.&nbsp\; November 5 - 9\, 2014.</span><br />\n<br />\n<br />\n<br />\n&nbsp\;
LOCATION:
UID:e.1659.2152
SEQUENCE:3
DTSTAMP:20260419T131216Z
URL:https://business.portsmouthchamber.org/events/details/portsmouth-poet-laureate-program-nancy-hill-poetry-celebration-11-05-2014-2152
END:VEVENT

END:VCALENDAR
