BEGIN:VCALENDAR
VERSION:2.0
PRODID:-//ChamberMaster//Event Calendar 2.0//EN
METHOD:PUBLISH
X-PUBLISHED-TTL:P3D
REFRESH-INTERVAL:P3D
CALSCALE:GREGORIAN
BEGIN:VEVENT
DTSTART:20161203T230000Z
DTEND:20161204T000000Z
X-MICROSOFT-CDO-ALLDAYEVENT:FALSE
SUMMARY:Portsmouth's Illuminated Holiday Parade & Tree Lighting
DESCRIPTION:5:00pm Holiday Music starts in Market Square 5:30pm Tree Lighting in Market Square 6:00pm Parade kicks off from Plaza 800 on Islington Street and processes down Islington to Congress to Market Square. Then turns onto Pleasant Street to Junkins and South Mill Pond. This event is a food drive so student volunteers will be pushing grocery carts to collect food donations for local food pantries. (Rain date is Sun\, December 4.) Parade units can sign up on our web site. Non-profits\, community groups\, families\, businesses\, school groups\, scouts\, etc are all welcome to join the fun.
X-ALT-DESC;FMTTYPE=text/html:5:00pm Holiday Music starts in Market Square 5:30pm Tree Lighting in Market Square 6:00pm Parade kicks off from Plaza 800 on Islington Street and processes down Islington to Congress to Market Square. Then turns onto Pleasant Street to Junkins and South Mill Pond. This event is a food drive so student volunteers will be pushing grocery carts to collect food donations for local food pantries. (Rain date is Sun\, December 4.) Parade units can sign up on our web site. Non-profits\, community groups\, families\, businesses\, school groups\, scouts\, etc are all welcome to join the fun.
LOCATION:Congress Street/Market Square\, Portsmouth\, NH
UID:e.1659.27620
SEQUENCE:3
DTSTAMP:20260421T210654Z
URL:https://business.portsmouthchamber.org/events/details/portsmouth-s-illuminated-holiday-parade-tree-lighting-27620
END:VEVENT

END:VCALENDAR
