BEGIN:VCALENDAR
VERSION:2.0
PRODID:-//ChamberMaster//Event Calendar 2.0//EN
METHOD:PUBLISH
X-PUBLISHED-TTL:P3D
REFRESH-INTERVAL:P3D
CALSCALE:GREGORIAN
BEGIN:VEVENT
DTSTART:20161130T221500Z
DTEND:20161201T010000Z
X-MICROSOFT-CDO-ALLDAYEVENT:FALSE
SUMMARY:Portsmouth Spa Ribbon Cutting
DESCRIPTION:Portsmouth Spa will be celebrating and thanking customers for 10 years of business. It will also be the grand opening of the boutique area and a time to show off all the renovations to the place!  Please join us for Wine & Cheese.\n\n\n\nA raffle will be conducted to support "The Leukemia Foundation" during the event.
X-ALT-DESC;FMTTYPE=text/html:<br />\nPortsmouth Spa will be celebrating and thanking customers for 10 years of business. It will also be the grand opening of the boutique area and a time to show off all the renovations to the place! &nbsp\;Please join us for Wine &amp\; Cheese.<br />\n<br />\nA raffle will be conducted to support &ldquo\;The Leukemia Foundation&rdquo\; during the event.
LOCATION:55 Congress Street Portsmouth\, NH
UID:e.1659.28147
SEQUENCE:3
DTSTAMP:20260421T212841Z
URL:https://business.portsmouthchamber.org/events/details/portsmouth-spa-ribbon-cutting-28147
END:VEVENT

END:VCALENDAR
