BEGIN:VCALENDAR
VERSION:2.0
PRODID:-//ChamberMaster//Event Calendar 2.0//EN
METHOD:PUBLISH
X-PUBLISHED-TTL:P3D
REFRESH-INTERVAL:P3D
CALSCALE:GREGORIAN
BEGIN:VEVENT
DTSTART:20161221T003000Z
DTEND:20161221T023000Z
X-MICROSOFT-CDO-ALLDAYEVENT:FALSE
SUMMARY:Portsmouth Symphony Orchestra: Family Holiday Pops
DESCRIPTION:This year the PSO invites special musical guests Taylor O'Donnell and Chris Klaxton to celebrate the season with Holiday favorites old and new. Tickets for these performances sell out\, so get yours early!
X-ALT-DESC;FMTTYPE=text/html:This year the PSO invites special musical guests Taylor O&rsquo\;Donnell and Chris Klaxton to celebrate the season with Holiday favorites old and new. Tickets for these performances sell out\, so get yours early!
LOCATION:The Historic Theater 28 Chestnut Street Portsmouth
UID:e.1659.28064
SEQUENCE:3
DTSTAMP:20260421T194353Z
URL:https://business.portsmouthchamber.org/events/details/portsmouth-symphony-orchestra-family-holiday-pops-28064
END:VEVENT

END:VCALENDAR
