BEGIN:VCALENDAR
VERSION:2.0
PRODID:-//ChamberMaster//Event Calendar 2.0//EN
METHOD:PUBLISH
X-PUBLISHED-TTL:P3D
REFRESH-INTERVAL:P3D
CALSCALE:GREGORIAN
BEGIN:VEVENT
DTSTART:20160320T190000Z
DTEND:20160320T210000Z
X-MICROSOFT-CDO-ALLDAYEVENT:FALSE
SUMMARY:Portsmouth Symphony Orchestra: Night at the Opera: Bizet and Britten
DESCRIPTION:An emotional\, drama-packed afternoon including that classic tale of seduction and love\, Carmen. This opera\, featuring unexpected twists of fate and pining lovers\, does not end well. It's opera\, after all. And so\, too\, with the Sea Interludes from Peter Grimes\, once again driving heroes to insanity. Before local vocal stars and the winners of the youth vocal competition take to the stage\, Peter Grimes will ponder his fate\, asking\, appropriately for our seaport: "What harbor can embrace terrors and tragedies?" \n\nConcert starts at 3 PM\, 2 PM pre-concert discussion\n\nPROGRAM\n\n"Night at the Opera"\n\nBizet\, Carmen\n\nBritten\, Peter Grimes\n\nand Arias from the winners of the vocal solo competition
X-ALT-DESC;FMTTYPE=text/html:<p style="margin: 0px 0px 15px\; padding: 0px\; color: rgb(102\, 102\, 102)\; font-family: 'Droid Sans'\, 'Lucida Grande'\, Arial\, sans-serif\; font-size: 16.8px\; line-height: 26.4px\;">An emotional\, drama-packed afternoon including that classic tale of seduction and love\, Carmen. This opera\, featuring unexpected twists of fate and pining lovers\, does not end well. It&rsquo\;s opera\, after all. And so\, too\, with the Sea Interludes from Peter Grimes\, once again driving heroes to insanity. Before local vocal stars and the winners of the youth vocal competition take to the stage\, Peter Grimes will ponder his fate\, asking\, appropriately for our seaport: &ldquo\;What harbor can embrace terrors and tragedies?&rdquo\;&nbsp\;</p>\n\n<p style="margin: 0px 0px 15px\; padding: 0px\; color: rgb(102\, 102\, 102)\; font-family: 'Droid Sans'\, 'Lucida Grande'\, Arial\, sans-serif\; font-size: 16.8px\; line-height: 26.4px\;">Concert starts at 3 PM\, 2 PM pre-concert discussion</p>\n\n<p style="margin: 0px 0px 15px\; padding: 0px\; color: rgb(102\, 102\, 102)\; font-family: 'Droid Sans'\, 'Lucida Grande'\, Arial\, sans-serif\; font-size: 16.8px\; line-height: 26.4px\;">PROGRAM<br />\n&ldquo\;Night at the Opera&rdquo\;<br />\nBizet\, Carmen<br />\nBritten\, Peter Grimes<br />\nand Arias from the winners of the vocal solo competition</p>\n
LOCATION:The Music Hall 28 Chestnut Street\, Portsmouth
UID:e.1659.16707
SEQUENCE:3
DTSTAMP:20260420T150543Z
URL:https://business.portsmouthchamber.org/events/details/portsmouth-symphony-orchestra-night-at-the-opera-bizet-and-britten-03-20-2016-16707
END:VEVENT

END:VCALENDAR
