BEGIN:VCALENDAR
VERSION:2.0
PRODID:-//ChamberMaster//Event Calendar 2.0//EN
METHOD:PUBLISH
X-PUBLISHED-TTL:P3D
REFRESH-INTERVAL:P3D
CALSCALE:GREGORIAN
BEGIN:VEVENT
DTSTART:20161116T130000Z
DTEND:20161116T150000Z
X-MICROSOFT-CDO-ALLDAYEVENT:FALSE
SUMMARY:POSTPONED Business Development Series sponsored by Bank of New Hampshire: How The Drug Problem Is Impacting Your Workplace
DESCRIPTION:This course was developed for businesses\, universities\, schools and other organizations that have a vested interest in a safe\, liability-free workplace or campus and/or quality product or work life.\n\nDrugs\, and therefore addiction and distribution are prevalent everywhere! This problem exists from the extreme smallest communities to the largest cities in this country\, from the smallest schools and businesses to the largest\, and from the most respectable people to the least.\n\nThe problem? With addiction comes a tremendously negative impact to educational institutions\, businesses and families. Addiction brings not only liability issues from a safety perspective\, but also decreased productivity\, quality issues and disruption to business/school.\n\nThe bottom line is that the key to success is in recognizing change! The sooner you see change the more likely we will be successful in our intervention efforts!\n\nRecognizing potential addiction problems in employees\, students AND family can bring tremendous advantage not only to your organization\, but in helping those who suffer from addiction. Regardless of whether student\, employee or family member\, we care about them. This course will help you recognize and understand the signs of addiction\, the dangerous items that accompany addiction\, and those who suffer from addiction\, and provide some remedies with the problem should you encounter it in your life.\n\nRemember - Addicts are good people with a horrible problem!\n\nSome of the topics covered in the course include:\n\nThe extent of the Problem\; How it Affects Your Organizations\; Some Surprising Facts\; Human Signs of Addiction\; Understanding Addicts (They are not bad people)\; Physical Signs of Addictions (Drugs and Paraphenalia)\; Laws Governing Random Drug Testing (School/Business)\; The State of the System for Resources\; Dealing With Known Drug Problems\; Dealing With Suspected Drug Problems\; Policy Related to Potential Drug Addiction\; Recognizing the Signs of Drug Distribution\; Possible Remedies
X-ALT-DESC;FMTTYPE=text/html:<font color="333333">This course was developed for businesses\, universities\, schools and other organizations that have a vested interest in a safe\, liability-free workplace or campus and/or quality product or work life.</font>\n\n<p><font color="333333">Drugs\, and therefore addiction and distribution are prevalent everywhere! This problem exists from the extreme smallest communities to the largest cities in this country\, from the smallest schools and businesses to the largest\, and from the most respectable people to the least.</font></p>\n\n<p><font color="333333">The problem? With addiction comes a tremendously negative impact to educational institutions\, businesses and families. Addiction brings not only liability issues from a safety perspective\, but also decreased productivity\, quality issues and disruption to business/school.</font></p>\n\n<p><font color="333333">The bottom line is that the key to success is in recognizing change! The sooner you see change the more likely we will be successful in our intervention efforts!</font></p>\n\n<p><font color="333333">Recognizing potential addiction problems in employees\, students AND family can bring tremendous advantage not only to your organization\, but in helping those who suffer from addiction. Regardless of whether student\, employee or family member\, we care about them. This course will help you recognize and understand the signs of addiction\, the dangerous items that accompany addiction\, and those who suffer from addiction\, and provide some remedies with the problem should you encounter it in your life.</font></p>\n\n<p><font color="333333">Remember - Addicts are good people with a horrible problem!</font></p>\n\n<p><font color="333333">Some of the topics covered in the course include:</font></p>\n\n<p><font color="333333">The extent of the Problem\; How it Affects Your Organizations\; Some Surprising Facts\; Human Signs of Addiction\; Understanding Addicts (They are not bad people)\; Physical Signs of Addictions (Drugs and Paraphenalia)\; Laws Governing Random Drug Testing (School/Business)\; The State of the System for Resources\; Dealing With Known Drug Problems\; Dealing With Suspected Drug Problems\; Policy Related to Potential Drug Addiction\; Recognizing the Signs of Drug Distribution\; Possible Remedies</font></p>\n\n<div>&nbsp\;</div>\n
LOCATION:Sheraton Portsmouth Harborside Hotel 250 Market Street Portsmouth\, NH 03801
UID:e.1659.27909
SEQUENCE:3
DTSTAMP:20260421T213412Z
URL:https://business.portsmouthchamber.org/events/details/postponed-business-development-series-sponsored-by-bank-of-new-hampshire-how-the-drug-problem-is-impacting-your-workplace-27909
END:VEVENT

END:VCALENDAR
